
BEGIN:VCALENDAR
VERSION:2.0
PRODID:-//Broadway Bowling Club - ECPv6.15.17.1//NONSGML v1.0//EN
CALSCALE:GREGORIAN
METHOD:PUBLISH
X-WR-CALNAME:Broadway Bowling Club
X-ORIGINAL-URL:https://broadwaybowlingclub.co.uk
X-WR-CALDESC:Events for Broadway Bowling Club
REFRESH-INTERVAL;VALUE=DURATION:PT1H
X-Robots-Tag:noindex
X-PUBLISHED-TTL:PT1H
BEGIN:VTIMEZONE
TZID:Europe/London
BEGIN:DAYLIGHT
TZOFFSETFROM:+0000
TZOFFSETTO:+0100
TZNAME:BST
DTSTART:20230326T010000
END:DAYLIGHT
BEGIN:STANDARD
TZOFFSETFROM:+0100
TZOFFSETTO:+0000
TZNAME:GMT
DTSTART:20231029T010000
END:STANDARD
BEGIN:DAYLIGHT
TZOFFSETFROM:+0000
TZOFFSETTO:+0100
TZNAME:BST
DTSTART:20240331T010000
END:DAYLIGHT
BEGIN:STANDARD
TZOFFSETFROM:+0100
TZOFFSETTO:+0000
TZNAME:GMT
DTSTART:20241027T010000
END:STANDARD
BEGIN:DAYLIGHT
TZOFFSETFROM:+0000
TZOFFSETTO:+0100
TZNAME:BST
DTSTART:20250330T010000
END:DAYLIGHT
BEGIN:STANDARD
TZOFFSETFROM:+0100
TZOFFSETTO:+0000
TZNAME:GMT
DTSTART:20251026T010000
END:STANDARD
BEGIN:DAYLIGHT
TZOFFSETFROM:+0000
TZOFFSETTO:+0100
TZNAME:BST
DTSTART:20260329T010000
END:DAYLIGHT
BEGIN:STANDARD
TZOFFSETFROM:+0100
TZOFFSETTO:+0000
TZNAME:GMT
DTSTART:20261025T010000
END:STANDARD
END:VTIMEZONE
BEGIN:VEVENT
DTSTART;TZID=Europe/London:20250823T143000
DTEND;TZID=Europe/London:20250823T173000
DTSTAMP:20260423T143532
CREATED:20250423T143756Z
LAST-MODIFIED:20250725T110507Z
UID:10000583-1755959400-1755970200@broadwaybowlingclub.co.uk
SUMMARY:Droitwich Ladies Home 23rd Aug 2025
DESCRIPTION:NOMINATE HERE
URL:https://broadwaybowlingclub.co.uk/event/droitwich-ladies-ladies-home-23rd-au-2025/
LOCATION:Broadway\, Kennel Lane\, Broadway\, Worcestershire\, WR12 7DJ\, United Kingdom
CATEGORIES:Ladies,Matches
GEO:52.0354006;-1.8602766
X-APPLE-STRUCTURED-LOCATION;VALUE=URI;X-ADDRESS=Broadway Kennel Lane Broadway Worcestershire WR12 7DJ United Kingdom;X-APPLE-RADIUS=500;X-TITLE=Kennel Lane:geo:-1.8602766,52.0354006
END:VEVENT
BEGIN:VEVENT
DTSTART;TZID=Europe/London:20250809T143000
DTEND;TZID=Europe/London:20250809T170000
DTSTAMP:20260423T143532
CREATED:20250423T143825Z
LAST-MODIFIED:20250625T125804Z
UID:10000592-1754749800-1754758800@broadwaybowlingclub.co.uk
SUMMARY:Littleton Ladies Away 9th August 2025
DESCRIPTION:NOMINATE HERE
URL:https://broadwaybowlingclub.co.uk/event/littleton-ladies-away-9th-august-2025/
LOCATION:Littleton\, Long Hyde Road\, South Littleton\, WR11 8TH
CATEGORIES:Ladies,Matches
GEO:52.1128179;-1.8941426
X-APPLE-STRUCTURED-LOCATION;VALUE=URI;X-ADDRESS=Littleton Long Hyde Road South Littleton WR11 8TH;X-APPLE-RADIUS=500;X-TITLE=Long Hyde Road:geo:-1.8941426,52.1128179
END:VEVENT
BEGIN:VEVENT
DTSTART;TZID=Europe/London:20250807T180000
DTEND;TZID=Europe/London:20250807T200000
DTSTAMP:20260423T143532
CREATED:20250227T162013Z
LAST-MODIFIED:20250709T192250Z
UID:10000548-1754589600-1754596800@broadwaybowlingclub.co.uk
SUMMARY:Overbury Ladies Triples Away 7th August 2025
DESCRIPTION:Nominate for this match
URL:https://broadwaybowlingclub.co.uk/event/overbury-ladies-triples-away-7th-aug-2025/
LOCATION:Overbury\, Overbury\, GL20 7NP
CATEGORIES:Ladies,Matches
GEO:52.0357517;-2.0645769
X-APPLE-STRUCTURED-LOCATION;VALUE=URI;X-ADDRESS=Overbury Overbury GL20 7NP;X-APPLE-RADIUS=500;X-TITLE=Overbury:geo:-2.0645769,52.0357517
END:VEVENT
BEGIN:VEVENT
DTSTART;TZID=Europe/London:20250802T143000
DTEND;TZID=Europe/London:20250802T180000
DTSTAMP:20260423T143532
CREATED:20250423T143811Z
LAST-MODIFIED:20250629T081636Z
UID:10000588-1754145000-1754157600@broadwaybowlingclub.co.uk
SUMMARY:Barbourne Ladies Home 2nd August 2025
DESCRIPTION:NOMINATE HERE
URL:https://broadwaybowlingclub.co.uk/event/barbourne-ladies-home-2nd-august-2025/
LOCATION:Broadway\, Kennel Lane\, Broadway\, Worcestershire\, WR12 7DJ\, United Kingdom
CATEGORIES:Ladies,Matches
GEO:52.0354006;-1.8602766
X-APPLE-STRUCTURED-LOCATION;VALUE=URI;X-ADDRESS=Broadway Kennel Lane Broadway Worcestershire WR12 7DJ United Kingdom;X-APPLE-RADIUS=500;X-TITLE=Kennel Lane:geo:-1.8602766,52.0354006
END:VEVENT
BEGIN:VEVENT
DTSTART;TZID=Europe/London:20250731T180000
DTEND;TZID=Europe/London:20250731T203000
DTSTAMP:20260423T143532
CREATED:20250423T143810Z
LAST-MODIFIED:20250423T144639Z
UID:10000586-1753984800-1753993800@broadwaybowlingclub.co.uk
SUMMARY:Overbury Ladies Home 31th July 2025
DESCRIPTION:NOMINATE HERE
URL:https://broadwaybowlingclub.co.uk/event/overbury-ladies-home-31th-july-2025/
LOCATION:Broadway\, Kennel Lane\, Broadway\, Worcestershire\, WR12 7DJ\, United Kingdom
CATEGORIES:Ladies,Matches
GEO:52.0354006;-1.8602766
X-APPLE-STRUCTURED-LOCATION;VALUE=URI;X-ADDRESS=Broadway Kennel Lane Broadway Worcestershire WR12 7DJ United Kingdom;X-APPLE-RADIUS=500;X-TITLE=Kennel Lane:geo:-1.8602766,52.0354006
END:VEVENT
BEGIN:VEVENT
DTSTART;TZID=Europe/London:20250719T143000
DTEND;TZID=Europe/London:20250719T180000
DTSTAMP:20260423T143532
CREATED:20250423T143742Z
LAST-MODIFIED:20250704T075652Z
UID:10000578-1752935400-1752948000@broadwaybowlingclub.co.uk
SUMMARY:Evesham Ladies Away 19th July 2025
DESCRIPTION:NOMINATE HERE
URL:https://broadwaybowlingclub.co.uk/event/evesham-ladies-away-19th-july-2025/
LOCATION:Evesham\, Blind Lane\, Evesham\, WR11 4LA
CATEGORIES:Ladies,Matches
GEO:52.0949932;-1.9538347
X-APPLE-STRUCTURED-LOCATION;VALUE=URI;X-ADDRESS=Evesham Blind Lane Evesham WR11 4LA;X-APPLE-RADIUS=500;X-TITLE=Blind Lane:geo:-1.9538347,52.0949932
END:VEVENT
BEGIN:VEVENT
DTSTART;TZID=Europe/London:20250712T143000
DTEND;TZID=Europe/London:20250712T170000
DTSTAMP:20260423T143532
CREATED:20250423T143736Z
LAST-MODIFIED:20250423T144604Z
UID:10000572-1752330600-1752339600@broadwaybowlingclub.co.uk
SUMMARY:Hewell Ladies Home 12th July 2025
DESCRIPTION:NOMINATE HERE
URL:https://broadwaybowlingclub.co.uk/event/hewell-ladies-home-12th-july-2025/
LOCATION:Broadway\, Kennel Lane\, Broadway\, Worcestershire\, WR12 7DJ\, United Kingdom
CATEGORIES:Ladies,Matches
GEO:52.0354006;-1.8602766
X-APPLE-STRUCTURED-LOCATION;VALUE=URI;X-ADDRESS=Broadway Kennel Lane Broadway Worcestershire WR12 7DJ United Kingdom;X-APPLE-RADIUS=500;X-TITLE=Kennel Lane:geo:-1.8602766,52.0354006
END:VEVENT
BEGIN:VEVENT
DTSTART;TZID=Europe/London:20250705T143000
DTEND;TZID=Europe/London:20250705T170000
DTSTAMP:20260423T143532
CREATED:20250423T143735Z
LAST-MODIFIED:20250423T144604Z
UID:10000570-1751725800-1751734800@broadwaybowlingclub.co.uk
SUMMARY:Pershore Ladies Away 5th July 2025
DESCRIPTION:NOMINATE HERE
URL:https://broadwaybowlingclub.co.uk/event/pershore-ladies-away-5th-july-2025/
LOCATION:Pershore\, Abbey Road\, Pershore\, Worcestershire\, WR10 1JP\, United Kingdom
CATEGORIES:Ladies,Matches
GEO:52.1097376;-2.0808073
X-APPLE-STRUCTURED-LOCATION;VALUE=URI;X-ADDRESS=Pershore Abbey Road Pershore Worcestershire WR10 1JP United Kingdom;X-APPLE-RADIUS=500;X-TITLE=Abbey Road:geo:-2.0808073,52.1097376
END:VEVENT
BEGIN:VEVENT
DTSTART;TZID=Europe/London:20250628T143000
DTEND;TZID=Europe/London:20250628T180000
DTSTAMP:20260423T143532
CREATED:20250407T110440Z
LAST-MODIFIED:20250407T110440Z
UID:10000560-1751121000-1751133600@broadwaybowlingclub.co.uk
SUMMARY:Bredon Ladies Triples Saturday 28th June 2025
DESCRIPTION:Nominate for this match
URL:https://broadwaybowlingclub.co.uk/event/bredon-ladies-triples-saturday-28th-june-2025/
LOCATION:Broadway\, Kennel Lane\, Broadway\, Worcestershire\, WR12 7DJ\, United Kingdom
CATEGORIES:Ladies,Matches
GEO:52.0354006;-1.8602766
X-APPLE-STRUCTURED-LOCATION;VALUE=URI;X-ADDRESS=Broadway Kennel Lane Broadway Worcestershire WR12 7DJ United Kingdom;X-APPLE-RADIUS=500;X-TITLE=Kennel Lane:geo:-1.8602766,52.0354006
END:VEVENT
BEGIN:VEVENT
DTSTART;TZID=Europe/London:20250626T183000
DTEND;TZID=Europe/London:20250626T210000
DTSTAMP:20260423T143532
CREATED:20250407T092728Z
LAST-MODIFIED:20250407T092728Z
UID:10000557-1750962600-1750971600@broadwaybowlingclub.co.uk
SUMMARY:St Dunstans Ladies Triples Away 26th June 2025
DESCRIPTION:Nominate for this match
URL:https://broadwaybowlingclub.co.uk/event/st-dunstans-ladies-triples-away-26th-june-2025/
LOCATION:St Dunstans\, St Dunstans Crescent\, Worcester\, WR5 2AF
CATEGORIES:Ladies,Matches
GEO:52.1839025;-2.2149129
X-APPLE-STRUCTURED-LOCATION;VALUE=URI;X-ADDRESS=St Dunstans St Dunstans Crescent Worcester WR5 2AF;X-APPLE-RADIUS=500;X-TITLE=St Dunstans Crescent:geo:-2.2149129,52.1839025
END:VEVENT
BEGIN:VEVENT
DTSTART;TZID=Europe/London:20250614T143000
DTEND;TZID=Europe/London:20250614T180000
DTSTAMP:20260423T143532
CREATED:20250227T154722Z
LAST-MODIFIED:20250227T154722Z
UID:10000543-1749911400-1749924000@broadwaybowlingclub.co.uk
SUMMARY:Droitwich Ladies Triples Away 14th June 2025
DESCRIPTION:Nominate for this match
URL:https://broadwaybowlingclub.co.uk/event/droitwich-ladies-triples-away-14th-june-2025/
LOCATION:Droitwich Spa\, Lido Park\, Worcester Road\, Droitwich\, WR9 8AA
CATEGORIES:Ladies,Matches
GEO:52.2661591;-2.1451366
X-APPLE-STRUCTURED-LOCATION;VALUE=URI;X-ADDRESS=Droitwich Spa Lido Park Worcester Road Droitwich WR9 8AA;X-APPLE-RADIUS=500;X-TITLE=Lido Park\, Worcester Road:geo:-2.1451366,52.2661591
END:VEVENT
BEGIN:VEVENT
DTSTART;TZID=Europe/London:20250607T143000
DTEND;TZID=Europe/London:20250607T173000
DTSTAMP:20260423T143532
CREATED:20250227T114447Z
LAST-MODIFIED:20250227T114447Z
UID:10000537-1749306600-1749317400@broadwaybowlingclub.co.uk
SUMMARY:St Dunstans Ladies Triples Home June 7th 2025
DESCRIPTION:Nominate for this match
URL:https://broadwaybowlingclub.co.uk/event/st-dunstans-ladies-triples-home-june-7th-2025/
LOCATION:Broadway\, Kennel Lane\, Broadway\, Worcestershire\, WR12 7DJ\, United Kingdom
CATEGORIES:Ladies,Matches
GEO:52.0354006;-1.8602766
X-APPLE-STRUCTURED-LOCATION;VALUE=URI;X-ADDRESS=Broadway Kennel Lane Broadway Worcestershire WR12 7DJ United Kingdom;X-APPLE-RADIUS=500;X-TITLE=Kennel Lane:geo:-1.8602766,52.0354006
END:VEVENT
BEGIN:VEVENT
DTSTART;TZID=Europe/London:20250605T181500
DTEND;TZID=Europe/London:20250605T210000
DTSTAMP:20260423T143532
CREATED:20250519T204135Z
LAST-MODIFIED:20250519T204135Z
UID:10000607-1749147300-1749157200@broadwaybowlingclub.co.uk
SUMMARY:Hewell Ladies Top Club Away 5th June 2025
DESCRIPTION:Nominate for this match
URL:https://broadwaybowlingclub.co.uk/event/hewell-ladies-top-club-away-5th-june-2025/
LOCATION:Hewell\, Holyoakes Lane\, Reddith\, Worcestershire\, B97 5SR\, United Kingdom
CATEGORIES:Ladies,Matches
GEO:52.3126742;-1.9988071
X-APPLE-STRUCTURED-LOCATION;VALUE=URI;X-ADDRESS=Hewell Holyoakes Lane Reddith Worcestershire B97 5SR United Kingdom;X-APPLE-RADIUS=500;X-TITLE=Holyoakes Lane:geo:-1.9988071,52.3126742
END:VEVENT
BEGIN:VEVENT
DTSTART;TZID=Europe/London:20250531T143000
DTEND;TZID=Europe/London:20250531T180000
DTSTAMP:20260423T143532
CREATED:20250227T110948Z
LAST-MODIFIED:20250227T110948Z
UID:10000532-1748701800-1748714400@broadwaybowlingclub.co.uk
SUMMARY:Littleton Ladies Triples Home 31st May 2025
DESCRIPTION:Nominate for this match
URL:https://broadwaybowlingclub.co.uk/event/littleton-ladies-triples-home-31st-may-2025/
LOCATION:Broadway\, Kennel Lane\, Broadway\, Worcestershire\, WR12 7DJ\, United Kingdom
CATEGORIES:Ladies,Matches
GEO:52.0354006;-1.8602766
X-APPLE-STRUCTURED-LOCATION;VALUE=URI;X-ADDRESS=Broadway Kennel Lane Broadway Worcestershire WR12 7DJ United Kingdom;X-APPLE-RADIUS=500;X-TITLE=Kennel Lane:geo:-1.8602766,52.0354006
END:VEVENT
BEGIN:VEVENT
DTSTART;TZID=Europe/London:20250522T181500
DTEND;TZID=Europe/London:20250522T210000
DTSTAMP:20260423T143532
CREATED:20250227T100131Z
LAST-MODIFIED:20250227T100131Z
UID:10000527-1747937700-1747947600@broadwaybowlingclub.co.uk
SUMMARY:Barbourne Ladies Triples Away 22nd May 2025
DESCRIPTION:Nominate for this match
URL:https://broadwaybowlingclub.co.uk/event/barbourne-ladies-triples-away-22nd-may-2025/
LOCATION:Barbourne\, Redcliffe Street\, Worcester\, WR3 7AR\, United Kingdom
CATEGORIES:Ladies,Matches
GEO:52.2101784;-2.2321274
X-APPLE-STRUCTURED-LOCATION;VALUE=URI;X-ADDRESS=Barbourne Redcliffe Street Worcester WR3 7AR United Kingdom;X-APPLE-RADIUS=500;X-TITLE=Redcliffe Street:geo:-2.2321274,52.2101784
END:VEVENT
BEGIN:VEVENT
DTSTART;TZID=Europe/London:20250515T181500
DTEND;TZID=Europe/London:20250515T210000
DTSTAMP:20260423T143532
CREATED:20250226T145210Z
LAST-MODIFIED:20250226T145210Z
UID:10000522-1747332900-1747342800@broadwaybowlingclub.co.uk
SUMMARY:Evesham Ladies Triples Home 15th May 2025
DESCRIPTION:Nominate for this match
URL:https://broadwaybowlingclub.co.uk/event/evesham-ladies-triples-home-15th-may-2025/
LOCATION:Broadway\, Kennel Lane\, Broadway\, Worcestershire\, WR12 7DJ\, United Kingdom
CATEGORIES:Ladies,Matches
GEO:52.0354006;-1.8602766
X-APPLE-STRUCTURED-LOCATION;VALUE=URI;X-ADDRESS=Broadway Kennel Lane Broadway Worcestershire WR12 7DJ United Kingdom;X-APPLE-RADIUS=500;X-TITLE=Kennel Lane:geo:-1.8602766,52.0354006
END:VEVENT
BEGIN:VEVENT
DTSTART;TZID=Europe/London:20250511T100000
DTEND;TZID=Europe/London:20250511T120000
DTSTAMP:20260423T143532
CREATED:20250407T090430Z
LAST-MODIFIED:20250407T090430Z
UID:10000554-1746957600-1746964800@broadwaybowlingclub.co.uk
SUMMARY:Bredon Ladies Double Rink Home May 11th 2025
DESCRIPTION:Nominate for this match
URL:https://broadwaybowlingclub.co.uk/event/bredon-ladies-double-rink-home-may-11th-2025/
LOCATION:Broadway\, Kennel Lane\, Broadway\, Worcestershire\, WR12 7DJ\, United Kingdom
CATEGORIES:Ladies,Matches
GEO:52.0354006;-1.8602766
X-APPLE-STRUCTURED-LOCATION;VALUE=URI;X-ADDRESS=Broadway Kennel Lane Broadway Worcestershire WR12 7DJ United Kingdom;X-APPLE-RADIUS=500;X-TITLE=Kennel Lane:geo:-1.8602766,52.0354006
END:VEVENT
BEGIN:VEVENT
DTSTART;TZID=Europe/London:20250510T143000
DTEND;TZID=Europe/London:20250510T180000
DTSTAMP:20260423T143532
CREATED:20250226T143518Z
LAST-MODIFIED:20250226T143518Z
UID:10000519-1746887400-1746900000@broadwaybowlingclub.co.uk
SUMMARY:Hewell Ladies Triples Away Saturday 10th May 2025
DESCRIPTION:Nominate for this match
URL:https://broadwaybowlingclub.co.uk/event/hewell-ladies-triples-away-saturday-10th-may-2025/
LOCATION:Hewell\, Holyoakes Lane\, Reddith\, Worcestershire\, B97 5SR\, United Kingdom
CATEGORIES:Ladies,Matches
GEO:52.3126742;-1.9988071
X-APPLE-STRUCTURED-LOCATION;VALUE=URI;X-ADDRESS=Hewell Holyoakes Lane Reddith Worcestershire B97 5SR United Kingdom;X-APPLE-RADIUS=500;X-TITLE=Holyoakes Lane:geo:-1.9988071,52.3126742
END:VEVENT
BEGIN:VEVENT
DTSTART;TZID=Europe/London:20250503T143000
DTEND;TZID=Europe/London:20250503T183000
DTSTAMP:20260423T143532
CREATED:20250226T140812Z
LAST-MODIFIED:20250226T140812Z
UID:10000515-1746282600-1746297000@broadwaybowlingclub.co.uk
SUMMARY:Pershore Ladies Triples Home Sat 3rd May 2025
DESCRIPTION:Nominate for this match
URL:https://broadwaybowlingclub.co.uk/event/pershore-ladies-triples-home-sat-3rd-may-2025/
LOCATION:Broadway\, Kennel Lane\, Broadway\, Worcestershire\, WR12 7DJ\, United Kingdom
CATEGORIES:Ladies,Matches
GEO:52.0354006;-1.8602766
X-APPLE-STRUCTURED-LOCATION;VALUE=URI;X-ADDRESS=Broadway Kennel Lane Broadway Worcestershire WR12 7DJ United Kingdom;X-APPLE-RADIUS=500;X-TITLE=Kennel Lane:geo:-1.8602766,52.0354006
END:VEVENT
BEGIN:VEVENT
DTSTART;TZID=Europe/London:20250429T181500
DTEND;TZID=Europe/London:20250429T203000
DTSTAMP:20260423T143532
CREATED:20250226T134150Z
LAST-MODIFIED:20250226T134238Z
UID:10000511-1745950500-1745958600@broadwaybowlingclub.co.uk
SUMMARY:Welford Ladies Triples Home Tues 29th April 2025
DESCRIPTION:Nominate for this match
URL:https://broadwaybowlingclub.co.uk/event/welford-ladies-triples-home-tues-29th-april-2025/
LOCATION:Broadway\, Kennel Lane\, Broadway\, Worcestershire\, WR12 7DJ\, United Kingdom
CATEGORIES:Ladies
GEO:52.0354006;-1.8602766
X-APPLE-STRUCTURED-LOCATION;VALUE=URI;X-ADDRESS=Broadway Kennel Lane Broadway Worcestershire WR12 7DJ United Kingdom;X-APPLE-RADIUS=500;X-TITLE=Kennel Lane:geo:-1.8602766,52.0354006
END:VEVENT
BEGIN:VEVENT
DTSTART;TZID=Europe/London:20250426T143000
DTEND;TZID=Europe/London:20250426T180000
DTSTAMP:20260423T143532
CREATED:20250225T124117Z
LAST-MODIFIED:20250226T151110Z
UID:10000508-1745677800-1745690400@broadwaybowlingclub.co.uk
SUMMARY:Bredon Ladies Triples Saturday 26th April 2025
DESCRIPTION:Nominate for this match
URL:https://broadwaybowlingclub.co.uk/event/bredon-ladies-triples-saturday-26th-april-2025/
LOCATION:Bredon\, Main Road\, Bredon\, GL20 7QN
CATEGORIES:Ladies,Matches
GEO:52.0301664;-2.1048567
X-APPLE-STRUCTURED-LOCATION;VALUE=URI;X-ADDRESS=Bredon Main Road Bredon GL20 7QN;X-APPLE-RADIUS=500;X-TITLE=Main Road:geo:-2.1048567,52.0301664
END:VEVENT
BEGIN:VEVENT
DTSTART;TZID=Europe/London:20240907T143000
DTEND;TZID=Europe/London:20240907T183000
DTSTAMP:20260423T143533
CREATED:20240501T132236Z
LAST-MODIFIED:20240501T132305Z
UID:10000496-1725719400-1725733800@broadwaybowlingclub.co.uk
SUMMARY:Overbury Ladies Triples Home 7th Sept 2024
DESCRIPTION:Nominate for this match
URL:https://broadwaybowlingclub.co.uk/event/overbury-ladies-triples-home-7th-sept-2024/
LOCATION:Broadway\, Kennel Lane\, Broadway\, Worcestershire\, WR12 7DJ\, United Kingdom
CATEGORIES:Ladies,Matches
GEO:52.0354006;-1.8602766
X-APPLE-STRUCTURED-LOCATION;VALUE=URI;X-ADDRESS=Broadway Kennel Lane Broadway Worcestershire WR12 7DJ United Kingdom;X-APPLE-RADIUS=500;X-TITLE=Kennel Lane:geo:-1.8602766,52.0354006
END:VEVENT
BEGIN:VEVENT
DTSTART;TZID=Europe/London:20240829T140000
DTEND;TZID=Europe/London:20240829T160000
DTSTAMP:20260423T143533
CREATED:20240408T135404Z
LAST-MODIFIED:20240717T081434Z
UID:10000451-1724940000-1724947200@broadwaybowlingclub.co.uk
SUMMARY:Barbourne Ladies Triples 29th Aug 2024 Home
DESCRIPTION:Nominate for this match
URL:https://broadwaybowlingclub.co.uk/event/barbourne-ladies-triples-29th-aug-2024-home/
LOCATION:Broadway\, Kennel Lane\, Broadway\, Worcestershire\, WR12 7DJ\, United Kingdom
CATEGORIES:Ladies,Matches
GEO:52.0354006;-1.8602766
X-APPLE-STRUCTURED-LOCATION;VALUE=URI;X-ADDRESS=Broadway Kennel Lane Broadway Worcestershire WR12 7DJ United Kingdom;X-APPLE-RADIUS=500;X-TITLE=Kennel Lane:geo:-1.8602766,52.0354006
END:VEVENT
BEGIN:VEVENT
DTSTART;TZID=Europe/London:20240824T143000
DTEND;TZID=Europe/London:20240824T180000
DTSTAMP:20260423T143533
CREATED:20240501T130940Z
LAST-MODIFIED:20240501T130940Z
UID:10000492-1724509800-1724522400@broadwaybowlingclub.co.uk
SUMMARY:Hewell Ladies Triples Away Saturday 24th August 2024
DESCRIPTION:Nominate for this match
URL:https://broadwaybowlingclub.co.uk/event/hewell-ladies-triples-away-saturday-24th-august-2024/
LOCATION:Hewell\, Holyoakes Lane\, Reddith\, Worcestershire\, B97 5SR\, United Kingdom
CATEGORIES:Ladies,Matches
GEO:52.3126742;-1.9988071
X-APPLE-STRUCTURED-LOCATION;VALUE=URI;X-ADDRESS=Hewell Holyoakes Lane Reddith Worcestershire B97 5SR United Kingdom;X-APPLE-RADIUS=500;X-TITLE=Holyoakes Lane:geo:-1.9988071,52.3126742
END:VEVENT
BEGIN:VEVENT
DTSTART;TZID=Europe/London:20240810T143000
DTEND;TZID=Europe/London:20240810T180000
DTSTAMP:20260423T143533
CREATED:20240416T133310Z
LAST-MODIFIED:20240801T194341Z
UID:10000479-1723300200-1723312800@broadwaybowlingclub.co.uk
SUMMARY:Pershore Ladies Triples Away 10th Aug 2024
DESCRIPTION:Nominate for this match
URL:https://broadwaybowlingclub.co.uk/event/pershore-ladies-triples-away-10th-aug-2024/
LOCATION:Pershore\, Abbey Road\, Pershore\, Worcestershire\, WR10 1JP\, United Kingdom
CATEGORIES:Ladies,Matches
GEO:52.1097376;-2.0808073
X-APPLE-STRUCTURED-LOCATION;VALUE=URI;X-ADDRESS=Pershore Abbey Road Pershore Worcestershire WR10 1JP United Kingdom;X-APPLE-RADIUS=500;X-TITLE=Abbey Road:geo:-2.0808073,52.1097376
END:VEVENT
BEGIN:VEVENT
DTSTART;TZID=Europe/London:20240803T143000
DTEND;TZID=Europe/London:20240803T180000
DTSTAMP:20260423T143533
CREATED:20240416T131901Z
LAST-MODIFIED:20240416T131901Z
UID:10000475-1722695400-1722708000@broadwaybowlingclub.co.uk
SUMMARY:St Dunstans Ladies Triples Away 3rd Aug 2024
DESCRIPTION:Nominate for this match
URL:https://broadwaybowlingclub.co.uk/event/st-dunstans-ladies-triples-away-3rd-aug-2024/
LOCATION:St Dunstans\, St Dunstans Crescent\, Worcester\, WR5 2AF
CATEGORIES:Ladies,Matches
GEO:52.1839025;-2.2149129
X-APPLE-STRUCTURED-LOCATION;VALUE=URI;X-ADDRESS=St Dunstans St Dunstans Crescent Worcester WR5 2AF;X-APPLE-RADIUS=500;X-TITLE=St Dunstans Crescent:geo:-2.2149129,52.1839025
END:VEVENT
BEGIN:VEVENT
DTSTART;TZID=Europe/London:20240801T180000
DTEND;TZID=Europe/London:20240801T210000
DTSTAMP:20260423T143533
CREATED:20240416T131323Z
LAST-MODIFIED:20240416T131323Z
UID:10000474-1722535200-1722546000@broadwaybowlingclub.co.uk
SUMMARY:Overbury Ladies Triples Away 1st Aug 2024
DESCRIPTION:Nominate for this match
URL:https://broadwaybowlingclub.co.uk/event/overbury-ladies-triples-away-1st-aug-2024/
LOCATION:Overbury\, Overbury\, GL20 7NP
CATEGORIES:Ladies,Matches
GEO:52.0357517;-2.0645769
X-APPLE-STRUCTURED-LOCATION;VALUE=URI;X-ADDRESS=Overbury Overbury GL20 7NP;X-APPLE-RADIUS=500;X-TITLE=Overbury:geo:-2.0645769,52.0357517
END:VEVENT
BEGIN:VEVENT
DTSTART;TZID=Europe/London:20240723T183000
DTEND;TZID=Europe/London:20240723T210000
DTSTAMP:20260423T143533
CREATED:20240409T123750Z
LAST-MODIFIED:20240409T123750Z
UID:10000467-1721759400-1721768400@broadwaybowlingclub.co.uk
SUMMARY:Littleton Ladies Triples Away Tuesday 23rd July 2024
DESCRIPTION:Nominate for this match
URL:https://broadwaybowlingclub.co.uk/event/littleton-ladies-triples-away-tuesday-23rd-july-2024/
LOCATION:Littleton\, Long Hyde Road\, South Littleton\, WR11 8TH
CATEGORIES:Ladies,Matches
GEO:52.1128179;-1.8941426
X-APPLE-STRUCTURED-LOCATION;VALUE=URI;X-ADDRESS=Littleton Long Hyde Road South Littleton WR11 8TH;X-APPLE-RADIUS=500;X-TITLE=Long Hyde Road:geo:-1.8941426,52.1128179
END:VEVENT
BEGIN:VEVENT
DTSTART;TZID=Europe/London:20240720T143000
DTEND;TZID=Europe/London:20240720T180000
DTSTAMP:20260423T143533
CREATED:20240409T121821Z
LAST-MODIFIED:20240409T121821Z
UID:10000464-1721485800-1721498400@broadwaybowlingclub.co.uk
SUMMARY:Droitwich Ladies Triples 20th July 2024 Away
DESCRIPTION:Nominate for this match
URL:https://broadwaybowlingclub.co.uk/event/droitwich-ladies-triples-20th-july-2024-away/
LOCATION:Droitwich Spa\, Lido Park\, Worcester Road\, Droitwich\, WR9 8AA
CATEGORIES:Ladies,Matches
GEO:52.2661591;-2.1451366
X-APPLE-STRUCTURED-LOCATION;VALUE=URI;X-ADDRESS=Droitwich Spa Lido Park Worcester Road Droitwich WR9 8AA;X-APPLE-RADIUS=500;X-TITLE=Lido Park\, Worcester Road:geo:-2.1451366,52.2661591
END:VEVENT
BEGIN:VEVENT
DTSTART;TZID=Europe/London:20240713T103000
DTEND;TZID=Europe/London:20240713T133000
DTSTAMP:20260423T143533
CREATED:20240408T155500Z
LAST-MODIFIED:20240408T155941Z
UID:10000459-1720866600-1720877400@broadwaybowlingclub.co.uk
SUMMARY:Barbourne Ladies Triples 13th July 2024 Away
DESCRIPTION:Nominate for this match
URL:https://broadwaybowlingclub.co.uk/event/barbourne-ladies-triples-away-2/
LOCATION:Barbourne\, Redcliffe Street\, Worcester\, WR3 7AR\, United Kingdom
CATEGORIES:Ladies,Matches
GEO:52.2101784;-2.2321274
X-APPLE-STRUCTURED-LOCATION;VALUE=URI;X-ADDRESS=Barbourne Redcliffe Street Worcester WR3 7AR United Kingdom;X-APPLE-RADIUS=500;X-TITLE=Redcliffe Street:geo:-2.2321274,52.2101784
END:VEVENT
END:VCALENDAR