
BEGIN:VCALENDAR
VERSION:2.0
PRODID:-//Broadway Bowling Club - ECPv6.15.17.1//NONSGML v1.0//EN
CALSCALE:GREGORIAN
METHOD:PUBLISH
X-WR-CALNAME:Broadway Bowling Club
X-ORIGINAL-URL:https://broadwaybowlingclub.co.uk
X-WR-CALDESC:Events for Broadway Bowling Club
REFRESH-INTERVAL;VALUE=DURATION:PT1H
X-Robots-Tag:noindex
X-PUBLISHED-TTL:PT1H
BEGIN:VTIMEZONE
TZID:Europe/London
BEGIN:DAYLIGHT
TZOFFSETFROM:+0000
TZOFFSETTO:+0100
TZNAME:BST
DTSTART:20220327T010000
END:DAYLIGHT
BEGIN:STANDARD
TZOFFSETFROM:+0100
TZOFFSETTO:+0000
TZNAME:GMT
DTSTART:20221030T010000
END:STANDARD
BEGIN:DAYLIGHT
TZOFFSETFROM:+0000
TZOFFSETTO:+0100
TZNAME:BST
DTSTART:20230326T010000
END:DAYLIGHT
BEGIN:STANDARD
TZOFFSETFROM:+0100
TZOFFSETTO:+0000
TZNAME:GMT
DTSTART:20231029T010000
END:STANDARD
BEGIN:DAYLIGHT
TZOFFSETFROM:+0000
TZOFFSETTO:+0100
TZNAME:BST
DTSTART:20240331T010000
END:DAYLIGHT
BEGIN:STANDARD
TZOFFSETFROM:+0100
TZOFFSETTO:+0000
TZNAME:GMT
DTSTART:20241027T010000
END:STANDARD
END:VTIMEZONE
BEGIN:VEVENT
DTSTART;TZID=Europe/London:20231115T193000
DTEND;TZID=Europe/London:20231115T210000
DTSTAMP:20260421T181113
CREATED:20230831T092455Z
LAST-MODIFIED:20231108T115312Z
UID:10000395-1700076600-1700082000@broadwaybowlingclub.co.uk
SUMMARY:2023 Annual General Meeting
DESCRIPTION:NOTICE OF THE ANNUAL GENERAL MEETING  \nTO BE HELD IN THE CLUBHOUSE  \nOn \nWednesday 15th November at 7.30 pm \nThe Nomination sheet for Officers is available on the Notice Board in the Clubhouse. \nThe closing date for nominations is 8th November 2023 \n2023 AGM Agenda\n2023 AGM AgendaEnter Password to Download: Download Now!\n2022 AGM Minutes\n2022 AGM MinutesEnter Password to Download: Download Now!\n2023 President’s Report\n2023 Presidents ReportEnter Password to Download: Download Now!\n2023 Chairman’s Report\n2023 Chairmans ReportEnter Password to Download: Download Now!\n2023 Secretary’s Report\n2023 Secretarys ReportEnter Password to Download: Download Now!\n2023 Treasurer’s Report & Accounts\n2023 Treasurers ReportEnter Password to Download: Download Now!\n2023 AccountsEnter Password to Download: Download Now!\n2023 Mens Coalition Captain Report\nMens Coalition Captain ReportEnter Password to Download: Download Now!\n2023 Ladies Coalition Captain Report\nLadies Coalition Captain ReportEnter Password to Download: Download Now!\n2023 Vale Triples Captain Report\n2023 Vale Triples ReportEnter Password to Download: Download Now!\n2023 Resolution on Subscriptions for the 2024 Season\nResolution Re Subscriptions for 2024 SeasonEnter Password to Download: Download Now!\n2023 Resolution on Smoking\nResolution Re Smoking for AGMEnter Password to Download: Download Now!
URL:https://broadwaybowlingclub.co.uk/event/2023-annual-general-meeting/
LOCATION:Broadway\, Kennel Lane\, Broadway\, Worcestershire\, WR12 7DJ\, United Kingdom
CATEGORIES:Other
ATTACH;FMTTYPE=image/png:https://broadwaybowlingclub.co.uk/wp-content/uploads/2021/09/AGM.png
GEO:52.0354006;-1.8602766
X-APPLE-STRUCTURED-LOCATION;VALUE=URI;X-ADDRESS=Broadway Kennel Lane Broadway Worcestershire WR12 7DJ United Kingdom;X-APPLE-RADIUS=500;X-TITLE=Kennel Lane:geo:-1.8602766,52.0354006
END:VEVENT
END:VCALENDAR