
BEGIN:VCALENDAR
VERSION:2.0
PRODID:-//Broadway Bowling Club - ECPv6.15.17.1//NONSGML v1.0//EN
CALSCALE:GREGORIAN
METHOD:PUBLISH
X-WR-CALNAME:Broadway Bowling Club
X-ORIGINAL-URL:https://broadwaybowlingclub.co.uk
X-WR-CALDESC:Events for Broadway Bowling Club
REFRESH-INTERVAL;VALUE=DURATION:PT1H
X-Robots-Tag:noindex
X-PUBLISHED-TTL:PT1H
BEGIN:VTIMEZONE
TZID:Europe/London
BEGIN:DAYLIGHT
TZOFFSETFROM:+0000
TZOFFSETTO:+0100
TZNAME:BST
DTSTART:20240331T010000
END:DAYLIGHT
BEGIN:STANDARD
TZOFFSETFROM:+0100
TZOFFSETTO:+0000
TZNAME:GMT
DTSTART:20241027T010000
END:STANDARD
BEGIN:DAYLIGHT
TZOFFSETFROM:+0000
TZOFFSETTO:+0100
TZNAME:BST
DTSTART:20250330T010000
END:DAYLIGHT
BEGIN:STANDARD
TZOFFSETFROM:+0100
TZOFFSETTO:+0000
TZNAME:GMT
DTSTART:20251026T010000
END:STANDARD
BEGIN:DAYLIGHT
TZOFFSETFROM:+0000
TZOFFSETTO:+0100
TZNAME:BST
DTSTART:20260329T010000
END:DAYLIGHT
BEGIN:STANDARD
TZOFFSETFROM:+0100
TZOFFSETTO:+0000
TZNAME:GMT
DTSTART:20261025T010000
END:STANDARD
END:VTIMEZONE
BEGIN:VEVENT
DTSTART;TZID=Europe/London:20250702T181500
DTEND;TZID=Europe/London:20250702T201500
DTSTAMP:20260421T185052
CREATED:20250423T140422Z
LAST-MODIFIED:20250423T140422Z
UID:10000567-1751480100-1751487300@broadwaybowlingclub.co.uk
SUMMARY:Club Night Mixed Home 2nd July 2025
DESCRIPTION:NOMINATE HERE
URL:https://broadwaybowlingclub.co.uk/event/club-night-mixed-home-2nd-july-2025/
LOCATION:Broadway\, Kennel Lane\, Broadway\, Worcestershire\, WR12 7DJ\, United Kingdom
CATEGORIES:Club Night,Matches
GEO:52.0354006;-1.8602766
X-APPLE-STRUCTURED-LOCATION;VALUE=URI;X-ADDRESS=Broadway Kennel Lane Broadway Worcestershire WR12 7DJ United Kingdom;X-APPLE-RADIUS=500;X-TITLE=Kennel Lane:geo:-1.8602766,52.0354006
END:VEVENT
BEGIN:VEVENT
DTSTART;TZID=Europe/London:20250705T143000
DTEND;TZID=Europe/London:20250705T170000
DTSTAMP:20260421T185052
CREATED:20250423T143735Z
LAST-MODIFIED:20250423T144604Z
UID:10000569-1751725800-1751734800@broadwaybowlingclub.co.uk
SUMMARY:Pershore Mens Home 5th July 2025
DESCRIPTION:NOMINATE HERE
URL:https://broadwaybowlingclub.co.uk/event/pershore-mens-home-5th-july-2025/
LOCATION:Broadway\, Kennel Lane\, Broadway\, Worcestershire\, WR12 7DJ\, United Kingdom
CATEGORIES:Matches,Mens
GEO:52.0354006;-1.8602766
X-APPLE-STRUCTURED-LOCATION;VALUE=URI;X-ADDRESS=Broadway Kennel Lane Broadway Worcestershire WR12 7DJ United Kingdom;X-APPLE-RADIUS=500;X-TITLE=Kennel Lane:geo:-1.8602766,52.0354006
END:VEVENT
BEGIN:VEVENT
DTSTART;TZID=Europe/London:20250705T143000
DTEND;TZID=Europe/London:20250705T170000
DTSTAMP:20260421T185052
CREATED:20250423T143735Z
LAST-MODIFIED:20250423T144604Z
UID:10000570-1751725800-1751734800@broadwaybowlingclub.co.uk
SUMMARY:Pershore Ladies Away 5th July 2025
DESCRIPTION:NOMINATE HERE
URL:https://broadwaybowlingclub.co.uk/event/pershore-ladies-away-5th-july-2025/
LOCATION:Pershore\, Abbey Road\, Pershore\, Worcestershire\, WR10 1JP\, United Kingdom
CATEGORIES:Ladies,Matches
GEO:52.1097376;-2.0808073
X-APPLE-STRUCTURED-LOCATION;VALUE=URI;X-ADDRESS=Pershore Abbey Road Pershore Worcestershire WR10 1JP United Kingdom;X-APPLE-RADIUS=500;X-TITLE=Abbey Road:geo:-2.0808073,52.1097376
END:VEVENT
BEGIN:VEVENT
DTSTART;TZID=Europe/London:20250707T183000
DTEND;TZID=Europe/London:20250707T203000
DTSTAMP:20260421T185052
CREATED:20250423T143736Z
LAST-MODIFIED:20250423T144604Z
UID:10000571-1751913000-1751920200@broadwaybowlingclub.co.uk
SUMMARY:Bredon Yellow Mixed Home 7th July 2025
DESCRIPTION:NOMINATE HERE
URL:https://broadwaybowlingclub.co.uk/event/bredon-yellow-mixed-home-7th-july-2025/
LOCATION:Broadway\, Kennel Lane\, Broadway\, Worcestershire\, WR12 7DJ\, United Kingdom
CATEGORIES:Matches,Mixed
GEO:52.0354006;-1.8602766
X-APPLE-STRUCTURED-LOCATION;VALUE=URI;X-ADDRESS=Broadway Kennel Lane Broadway Worcestershire WR12 7DJ United Kingdom;X-APPLE-RADIUS=500;X-TITLE=Kennel Lane:geo:-1.8602766,52.0354006
END:VEVENT
BEGIN:VEVENT
DTSTART;TZID=Europe/London:20250709T181500
DTEND;TZID=Europe/London:20250709T203000
DTSTAMP:20260421T185052
CREATED:20250704T080006Z
LAST-MODIFIED:20250704T080006Z
UID:10000608-1752084900-1752093000@broadwaybowlingclub.co.uk
SUMMARY:Club Night Mixed Home 9th July 2025
DESCRIPTION:NOMINATE HERE
URL:https://broadwaybowlingclub.co.uk/event/club-night-mixed-home-9th-july-2025/
LOCATION:Broadway\, Kennel Lane\, Broadway\, Worcestershire\, WR12 7DJ\, United Kingdom
CATEGORIES:Club Night,Matches
GEO:52.0354006;-1.8602766
X-APPLE-STRUCTURED-LOCATION;VALUE=URI;X-ADDRESS=Broadway Kennel Lane Broadway Worcestershire WR12 7DJ United Kingdom;X-APPLE-RADIUS=500;X-TITLE=Kennel Lane:geo:-1.8602766,52.0354006
END:VEVENT
BEGIN:VEVENT
DTSTART;TZID=Europe/London:20250710T183000
DTEND;TZID=Europe/London:20250710T210000
DTSTAMP:20260421T185052
CREATED:20250423T143736Z
LAST-MODIFIED:20250615T195449Z
UID:10000573-1752172200-1752181200@broadwaybowlingclub.co.uk
SUMMARY:Hewell Mens Away 10th July 2025
DESCRIPTION:NOMINATE HERE
URL:https://broadwaybowlingclub.co.uk/event/hewell-mens-away-10th-july-2025/
LOCATION:Hewell\, Holyoakes Lane\, Reddith\, Worcestershire\, B97 5SR\, United Kingdom
CATEGORIES:Matches,Mens
GEO:52.3126742;-1.9988071
X-APPLE-STRUCTURED-LOCATION;VALUE=URI;X-ADDRESS=Hewell Holyoakes Lane Reddith Worcestershire B97 5SR United Kingdom;X-APPLE-RADIUS=500;X-TITLE=Holyoakes Lane:geo:-1.9988071,52.3126742
END:VEVENT
BEGIN:VEVENT
DTSTART;TZID=Europe/London:20250712T143000
DTEND;TZID=Europe/London:20250712T170000
DTSTAMP:20260421T185052
CREATED:20250423T143736Z
LAST-MODIFIED:20250423T144604Z
UID:10000572-1752330600-1752339600@broadwaybowlingclub.co.uk
SUMMARY:Hewell Ladies Home 12th July 2025
DESCRIPTION:NOMINATE HERE
URL:https://broadwaybowlingclub.co.uk/event/hewell-ladies-home-12th-july-2025/
LOCATION:Broadway\, Kennel Lane\, Broadway\, Worcestershire\, WR12 7DJ\, United Kingdom
CATEGORIES:Ladies,Matches
GEO:52.0354006;-1.8602766
X-APPLE-STRUCTURED-LOCATION;VALUE=URI;X-ADDRESS=Broadway Kennel Lane Broadway Worcestershire WR12 7DJ United Kingdom;X-APPLE-RADIUS=500;X-TITLE=Kennel Lane:geo:-1.8602766,52.0354006
END:VEVENT
BEGIN:VEVENT
DTSTART;TZID=Europe/London:20250714T183000
DTEND;TZID=Europe/London:20250714T203000
DTSTAMP:20260421T185052
CREATED:20250423T143741Z
LAST-MODIFIED:20250423T144607Z
UID:10000574-1752517800-1752525000@broadwaybowlingclub.co.uk
SUMMARY:Bredon Maroon Mixed Home 14th July 2025
DESCRIPTION:NOMINATE HERE
URL:https://broadwaybowlingclub.co.uk/event/bredon-maroon-mixed-home-14th-july-2025/
LOCATION:Broadway\, Kennel Lane\, Broadway\, Worcestershire\, WR12 7DJ\, United Kingdom
CATEGORIES:Matches,Mixed
GEO:52.0354006;-1.8602766
X-APPLE-STRUCTURED-LOCATION;VALUE=URI;X-ADDRESS=Broadway Kennel Lane Broadway Worcestershire WR12 7DJ United Kingdom;X-APPLE-RADIUS=500;X-TITLE=Kennel Lane:geo:-1.8602766,52.0354006
END:VEVENT
BEGIN:VEVENT
DTSTART;TZID=Europe/London:20250715T183000
DTEND;TZID=Europe/London:20250715T213000
DTSTAMP:20260421T185052
CREATED:20250423T143741Z
LAST-MODIFIED:20250423T144608Z
UID:10000575-1752604200-1752615000@broadwaybowlingclub.co.uk
SUMMARY:Chipping Campden Mixed Home 15th July 2025
DESCRIPTION:NOMINATE HERE
URL:https://broadwaybowlingclub.co.uk/event/chipping-campden-mixed-home-15th-july-2025/
LOCATION:Broadway\, Kennel Lane\, Broadway\, Worcestershire\, WR12 7DJ\, United Kingdom
CATEGORIES:Matches,Mixed
GEO:52.0354006;-1.8602766
X-APPLE-STRUCTURED-LOCATION;VALUE=URI;X-ADDRESS=Broadway Kennel Lane Broadway Worcestershire WR12 7DJ United Kingdom;X-APPLE-RADIUS=500;X-TITLE=Kennel Lane:geo:-1.8602766,52.0354006
END:VEVENT
BEGIN:VEVENT
DTSTART;TZID=Europe/London:20250716T181500
DTEND;TZID=Europe/London:20250716T223000
DTSTAMP:20260421T185052
CREATED:20250423T143741Z
LAST-MODIFIED:20250711T110805Z
UID:10000576-1752689700-1752705000@broadwaybowlingclub.co.uk
SUMMARY:Club Night Home 16th July 2025 - Cancelled
DESCRIPTION:CANCELLED
URL:https://broadwaybowlingclub.co.uk/event/club-night-mixed-home-16th-july-2025/
LOCATION:Broadway\, Kennel Lane\, Broadway\, Worcestershire\, WR12 7DJ\, United Kingdom
CATEGORIES:Club Night,Matches
GEO:52.0354006;-1.8602766
X-APPLE-STRUCTURED-LOCATION;VALUE=URI;X-ADDRESS=Broadway Kennel Lane Broadway Worcestershire WR12 7DJ United Kingdom;X-APPLE-RADIUS=500;X-TITLE=Kennel Lane:geo:-1.8602766,52.0354006
END:VEVENT
BEGIN:VEVENT
DTSTART;TZID=Europe/London:20250719T143000
DTEND;TZID=Europe/London:20250719T170000
DTSTAMP:20260421T185052
CREATED:20250423T143742Z
LAST-MODIFIED:20250423T144608Z
UID:10000577-1752935400-1752944400@broadwaybowlingclub.co.uk
SUMMARY:Evesham Mens Home 19th July 2025
DESCRIPTION:NOMINATE HERE
URL:https://broadwaybowlingclub.co.uk/event/evesham-mens-home-19th-july-2025/
LOCATION:Broadway\, Kennel Lane\, Broadway\, Worcestershire\, WR12 7DJ\, United Kingdom
CATEGORIES:Matches,Mens
GEO:52.0354006;-1.8602766
X-APPLE-STRUCTURED-LOCATION;VALUE=URI;X-ADDRESS=Broadway Kennel Lane Broadway Worcestershire WR12 7DJ United Kingdom;X-APPLE-RADIUS=500;X-TITLE=Kennel Lane:geo:-1.8602766,52.0354006
END:VEVENT
BEGIN:VEVENT
DTSTART;TZID=Europe/London:20250719T143000
DTEND;TZID=Europe/London:20250719T180000
DTSTAMP:20260421T185052
CREATED:20250423T143742Z
LAST-MODIFIED:20250704T075652Z
UID:10000578-1752935400-1752948000@broadwaybowlingclub.co.uk
SUMMARY:Evesham Ladies Away 19th July 2025
DESCRIPTION:NOMINATE HERE
URL:https://broadwaybowlingclub.co.uk/event/evesham-ladies-away-19th-july-2025/
LOCATION:Evesham\, Blind Lane\, Evesham\, WR11 4LA
CATEGORIES:Ladies,Matches
GEO:52.0949932;-1.9538347
X-APPLE-STRUCTURED-LOCATION;VALUE=URI;X-ADDRESS=Evesham Blind Lane Evesham WR11 4LA;X-APPLE-RADIUS=500;X-TITLE=Blind Lane:geo:-1.9538347,52.0949932
END:VEVENT
BEGIN:VEVENT
DTSTART;TZID=Europe/London:20250720T143000
DTEND;TZID=Europe/London:20250720T190000
DTSTAMP:20260421T185052
CREATED:20250423T143755Z
LAST-MODIFIED:20250423T144622Z
UID:10000579-1753021800-1753038000@broadwaybowlingclub.co.uk
SUMMARY:Fairoaks Tourists Mixed Home 20th July 2025
DESCRIPTION:NOMINATE HERE
URL:https://broadwaybowlingclub.co.uk/event/fairoaks-tourists-mixed-home-20th-july-2025/
LOCATION:Broadway\, Kennel Lane\, Broadway\, Worcestershire\, WR12 7DJ\, United Kingdom
CATEGORIES:Matches,Mixed
GEO:52.0354006;-1.8602766
X-APPLE-STRUCTURED-LOCATION;VALUE=URI;X-ADDRESS=Broadway Kennel Lane Broadway Worcestershire WR12 7DJ United Kingdom;X-APPLE-RADIUS=500;X-TITLE=Kennel Lane:geo:-1.8602766,52.0354006
END:VEVENT
BEGIN:VEVENT
DTSTART;TZID=Europe/London:20250721T183000
DTEND;TZID=Europe/London:20250721T203000
DTSTAMP:20260421T185052
CREATED:20250423T143755Z
LAST-MODIFIED:20250423T144622Z
UID:10000580-1753122600-1753129800@broadwaybowlingclub.co.uk
SUMMARY:Littleton Blue Mixed Away 21th July 2025
DESCRIPTION:NOMINATE HERE
URL:https://broadwaybowlingclub.co.uk/event/littleton-blue-mixed-away-21th-july-2025/
LOCATION:Littleton\, Long Hyde Road\, South Littleton\, WR11 8TH
CATEGORIES:Matches,Mixed
GEO:52.1128179;-1.8941426
X-APPLE-STRUCTURED-LOCATION;VALUE=URI;X-ADDRESS=Littleton Long Hyde Road South Littleton WR11 8TH;X-APPLE-RADIUS=500;X-TITLE=Long Hyde Road:geo:-1.8941426,52.1128179
END:VEVENT
BEGIN:VEVENT
DTSTART;TZID=Europe/London:20250723T181500
DTEND;TZID=Europe/London:20250723T203000
DTSTAMP:20260421T185052
CREATED:20250423T143755Z
LAST-MODIFIED:20250423T144623Z
UID:10000581-1753294500-1753302600@broadwaybowlingclub.co.uk
SUMMARY:Club Night Mixed Home 23th July 2025
DESCRIPTION:NOMINATE HERE
URL:https://broadwaybowlingclub.co.uk/event/club-night-mixed-home-23th-july-2025/
LOCATION:Broadway\, Kennel Lane\, Broadway\, Worcestershire\, WR12 7DJ\, United Kingdom
CATEGORIES:Club Night,Matches
GEO:52.0354006;-1.8602766
X-APPLE-STRUCTURED-LOCATION;VALUE=URI;X-ADDRESS=Broadway Kennel Lane Broadway Worcestershire WR12 7DJ United Kingdom;X-APPLE-RADIUS=500;X-TITLE=Kennel Lane:geo:-1.8602766,52.0354006
END:VEVENT
BEGIN:VEVENT
DTSTART;TZID=Europe/London:20250724T183000
DTEND;TZID=Europe/London:20250724T203000
DTSTAMP:20260421T185052
CREATED:20250423T143756Z
LAST-MODIFIED:20250423T144623Z
UID:10000582-1753381800-1753389000@broadwaybowlingclub.co.uk
SUMMARY:Bidford Mens Away 24th July 2025
DESCRIPTION:NOMINATE HERE
URL:https://broadwaybowlingclub.co.uk/event/bidford-mens-away-24th-july-2025/
LOCATION:Bidford\, Salford Road\, Bidford-on-Avon\, B50 4EZ\, United Kingdom
CATEGORIES:Matches,Mens
GEO:52.1639326;-1.863893
X-APPLE-STRUCTURED-LOCATION;VALUE=URI;X-ADDRESS=Bidford Salford Road Bidford-on-Avon B50 4EZ United Kingdom;X-APPLE-RADIUS=500;X-TITLE=Salford Road:geo:-1.863893,52.1639326
END:VEVENT
BEGIN:VEVENT
DTSTART;TZID=Europe/London:20250728T183000
DTEND;TZID=Europe/London:20250728T203000
DTSTAMP:20260421T185052
CREATED:20250423T143809Z
LAST-MODIFIED:20250423T144638Z
UID:10000584-1753727400-1753734600@broadwaybowlingclub.co.uk
SUMMARY:Littleton Gold Mixed Away 28th July 2025
DESCRIPTION:NOMINATE HERE
URL:https://broadwaybowlingclub.co.uk/event/littleton-gold-mixed-away-28th-july-2025/
LOCATION:Littleton\, Long Hyde Road\, South Littleton\, WR11 8TH
CATEGORIES:Matches,Mixed
GEO:52.1128179;-1.8941426
X-APPLE-STRUCTURED-LOCATION;VALUE=URI;X-ADDRESS=Littleton Long Hyde Road South Littleton WR11 8TH;X-APPLE-RADIUS=500;X-TITLE=Long Hyde Road:geo:-1.8941426,52.1128179
END:VEVENT
BEGIN:VEVENT
DTSTART;TZID=Europe/London:20250730T181500
DTEND;TZID=Europe/London:20250730T203000
DTSTAMP:20260421T185052
CREATED:20250423T143810Z
LAST-MODIFIED:20250423T144639Z
UID:10000585-1753899300-1753907400@broadwaybowlingclub.co.uk
SUMMARY:Club Night Mixed Home 30th July 2025
DESCRIPTION:NOMINATE HERE
URL:https://broadwaybowlingclub.co.uk/event/club-night-mixed-home-30th-july-2025/
LOCATION:Broadway\, Kennel Lane\, Broadway\, Worcestershire\, WR12 7DJ\, United Kingdom
CATEGORIES:Club Night,Matches
GEO:52.0354006;-1.8602766
X-APPLE-STRUCTURED-LOCATION;VALUE=URI;X-ADDRESS=Broadway Kennel Lane Broadway Worcestershire WR12 7DJ United Kingdom;X-APPLE-RADIUS=500;X-TITLE=Kennel Lane:geo:-1.8602766,52.0354006
END:VEVENT
BEGIN:VEVENT
DTSTART;TZID=Europe/London:20250731T180000
DTEND;TZID=Europe/London:20250731T203000
DTSTAMP:20260421T185052
CREATED:20250423T143810Z
LAST-MODIFIED:20250423T144639Z
UID:10000586-1753984800-1753993800@broadwaybowlingclub.co.uk
SUMMARY:Overbury Ladies Home 31th July 2025
DESCRIPTION:NOMINATE HERE
URL:https://broadwaybowlingclub.co.uk/event/overbury-ladies-home-31th-july-2025/
LOCATION:Broadway\, Kennel Lane\, Broadway\, Worcestershire\, WR12 7DJ\, United Kingdom
CATEGORIES:Ladies,Matches
GEO:52.0354006;-1.8602766
X-APPLE-STRUCTURED-LOCATION;VALUE=URI;X-ADDRESS=Broadway Kennel Lane Broadway Worcestershire WR12 7DJ United Kingdom;X-APPLE-RADIUS=500;X-TITLE=Kennel Lane:geo:-1.8602766,52.0354006
END:VEVENT
BEGIN:VEVENT
DTSTART;TZID=Europe/London:20250802T143000
DTEND;TZID=Europe/London:20250802T170000
DTSTAMP:20260421T185052
CREATED:20250423T143811Z
LAST-MODIFIED:20250423T144639Z
UID:10000587-1754145000-1754154000@broadwaybowlingclub.co.uk
SUMMARY:Vines Mens Away 2nd August 2025
DESCRIPTION:NOMINATE HERE
URL:https://broadwaybowlingclub.co.uk/event/vines-mens-away-2nd-august-2025/
LOCATION:Vines Park\, 3 The Saltway\, Droitwich\, WR9 8LB\, United Kingdom
CATEGORIES:Matches,Mens
GEO:52.2700201;-2.1498563
X-APPLE-STRUCTURED-LOCATION;VALUE=URI;X-ADDRESS=Vines Park 3 The Saltway Droitwich WR9 8LB United Kingdom;X-APPLE-RADIUS=500;X-TITLE=3 The Saltway:geo:-2.1498563,52.2700201
END:VEVENT
BEGIN:VEVENT
DTSTART;TZID=Europe/London:20250802T143000
DTEND;TZID=Europe/London:20250802T180000
DTSTAMP:20260421T185052
CREATED:20250423T143811Z
LAST-MODIFIED:20250629T081636Z
UID:10000588-1754145000-1754157600@broadwaybowlingclub.co.uk
SUMMARY:Barbourne Ladies Home 2nd August 2025
DESCRIPTION:NOMINATE HERE
URL:https://broadwaybowlingclub.co.uk/event/barbourne-ladies-home-2nd-august-2025/
LOCATION:Broadway\, Kennel Lane\, Broadway\, Worcestershire\, WR12 7DJ\, United Kingdom
CATEGORIES:Ladies,Matches
GEO:52.0354006;-1.8602766
X-APPLE-STRUCTURED-LOCATION;VALUE=URI;X-ADDRESS=Broadway Kennel Lane Broadway Worcestershire WR12 7DJ United Kingdom;X-APPLE-RADIUS=500;X-TITLE=Kennel Lane:geo:-1.8602766,52.0354006
END:VEVENT
BEGIN:VEVENT
DTSTART;TZID=Europe/London:20250804T183000
DTEND;TZID=Europe/London:20250804T203000
DTSTAMP:20260421T185052
CREATED:20250423T143824Z
LAST-MODIFIED:20250423T144653Z
UID:10000589-1754332200-1754339400@broadwaybowlingclub.co.uk
SUMMARY:Bidford Mixed Home 4th August 2025
DESCRIPTION:NOMINATE HERE
URL:https://broadwaybowlingclub.co.uk/event/bidford-mixed-home-4th-august-2025/
LOCATION:Broadway\, Kennel Lane\, Broadway\, Worcestershire\, WR12 7DJ\, United Kingdom
CATEGORIES:Matches,Mixed
GEO:52.0354006;-1.8602766
X-APPLE-STRUCTURED-LOCATION;VALUE=URI;X-ADDRESS=Broadway Kennel Lane Broadway Worcestershire WR12 7DJ United Kingdom;X-APPLE-RADIUS=500;X-TITLE=Kennel Lane:geo:-1.8602766,52.0354006
END:VEVENT
BEGIN:VEVENT
DTSTART;TZID=Europe/London:20250806T181500
DTEND;TZID=Europe/London:20250806T203000
DTSTAMP:20260421T185052
CREATED:20250423T143825Z
LAST-MODIFIED:20250423T144653Z
UID:10000590-1754504100-1754512200@broadwaybowlingclub.co.uk
SUMMARY:Club Night Mixed Home 6th August 2025
DESCRIPTION:NOMINATE HERE
URL:https://broadwaybowlingclub.co.uk/event/club-night-mixed-home-6th-august-2025/
LOCATION:Broadway\, Kennel Lane\, Broadway\, Worcestershire\, WR12 7DJ\, United Kingdom
CATEGORIES:Club Night,Matches
GEO:52.0354006;-1.8602766
X-APPLE-STRUCTURED-LOCATION;VALUE=URI;X-ADDRESS=Broadway Kennel Lane Broadway Worcestershire WR12 7DJ United Kingdom;X-APPLE-RADIUS=500;X-TITLE=Kennel Lane:geo:-1.8602766,52.0354006
END:VEVENT
BEGIN:VEVENT
DTSTART;TZID=Europe/London:20250807T180000
DTEND;TZID=Europe/London:20250807T200000
DTSTAMP:20260421T185052
CREATED:20250227T162013Z
LAST-MODIFIED:20250709T192250Z
UID:10000548-1754589600-1754596800@broadwaybowlingclub.co.uk
SUMMARY:Overbury Ladies Triples Away 7th August 2025
DESCRIPTION:Nominate for this match
URL:https://broadwaybowlingclub.co.uk/event/overbury-ladies-triples-away-7th-aug-2025/
LOCATION:Overbury\, Overbury\, GL20 7NP
CATEGORIES:Ladies,Matches
GEO:52.0357517;-2.0645769
X-APPLE-STRUCTURED-LOCATION;VALUE=URI;X-ADDRESS=Overbury Overbury GL20 7NP;X-APPLE-RADIUS=500;X-TITLE=Overbury:geo:-2.0645769,52.0357517
END:VEVENT
BEGIN:VEVENT
DTSTART;TZID=Europe/London:20250809T143000
DTEND;TZID=Europe/London:20250809T170000
DTSTAMP:20260421T185052
CREATED:20250423T143825Z
LAST-MODIFIED:20250423T144653Z
UID:10000591-1754749800-1754758800@broadwaybowlingclub.co.uk
SUMMARY:Littleton Mens Home 9th August 2025
DESCRIPTION:NOMINATE HERE
URL:https://broadwaybowlingclub.co.uk/event/littleton-mens-home-9th-august-2025/
LOCATION:Broadway\, Kennel Lane\, Broadway\, Worcestershire\, WR12 7DJ\, United Kingdom
CATEGORIES:Matches,Mens
GEO:52.0354006;-1.8602766
X-APPLE-STRUCTURED-LOCATION;VALUE=URI;X-ADDRESS=Broadway Kennel Lane Broadway Worcestershire WR12 7DJ United Kingdom;X-APPLE-RADIUS=500;X-TITLE=Kennel Lane:geo:-1.8602766,52.0354006
END:VEVENT
BEGIN:VEVENT
DTSTART;TZID=Europe/London:20250809T143000
DTEND;TZID=Europe/London:20250809T170000
DTSTAMP:20260421T185052
CREATED:20250423T143825Z
LAST-MODIFIED:20250625T125804Z
UID:10000592-1754749800-1754758800@broadwaybowlingclub.co.uk
SUMMARY:Littleton Ladies Away 9th August 2025
DESCRIPTION:NOMINATE HERE
URL:https://broadwaybowlingclub.co.uk/event/littleton-ladies-away-9th-august-2025/
LOCATION:Littleton\, Long Hyde Road\, South Littleton\, WR11 8TH
CATEGORIES:Ladies,Matches
GEO:52.1128179;-1.8941426
X-APPLE-STRUCTURED-LOCATION;VALUE=URI;X-ADDRESS=Littleton Long Hyde Road South Littleton WR11 8TH;X-APPLE-RADIUS=500;X-TITLE=Long Hyde Road:geo:-1.8941426,52.1128179
END:VEVENT
BEGIN:VEVENT
DTSTART;TZID=Europe/London:20250811T181500
DTEND;TZID=Europe/London:20250811T203000
DTSTAMP:20260421T185052
CREATED:20250423T143826Z
LAST-MODIFIED:20250807T160017Z
UID:10000593-1754936100-1754944200@broadwaybowlingclub.co.uk
SUMMARY:Evesham Mixed Away 11th August 2025
DESCRIPTION:NOMINATE HERE
URL:https://broadwaybowlingclub.co.uk/event/evesham-mixed-away-11th-august-2025/
LOCATION:Evesham\, Blind Lane\, Evesham\, WR11 4LA
CATEGORIES:Matches,Mixed
GEO:52.0949932;-1.9538347
X-APPLE-STRUCTURED-LOCATION;VALUE=URI;X-ADDRESS=Evesham Blind Lane Evesham WR11 4LA;X-APPLE-RADIUS=500;X-TITLE=Blind Lane:geo:-1.9538347,52.0949932
END:VEVENT
BEGIN:VEVENT
DTSTART;TZID=Europe/London:20250813T181500
DTEND;TZID=Europe/London:20250813T203000
DTSTAMP:20260421T185052
CREATED:20250423T143842Z
LAST-MODIFIED:20250423T144707Z
UID:10000594-1755108900-1755117000@broadwaybowlingclub.co.uk
SUMMARY:Club Night Mixed Home 13th August 2025
DESCRIPTION:NOMINATE HERE
URL:https://broadwaybowlingclub.co.uk/event/club-night-mixed-home-13th-august-2025/
LOCATION:Broadway\, Kennel Lane\, Broadway\, Worcestershire\, WR12 7DJ\, United Kingdom
CATEGORIES:Club Night,Matches
GEO:52.0354006;-1.8602766
X-APPLE-STRUCTURED-LOCATION;VALUE=URI;X-ADDRESS=Broadway Kennel Lane Broadway Worcestershire WR12 7DJ United Kingdom;X-APPLE-RADIUS=500;X-TITLE=Kennel Lane:geo:-1.8602766,52.0354006
END:VEVENT
BEGIN:VEVENT
DTSTART;TZID=Europe/London:20250817T143000
DTEND;TZID=Europe/London:20250817T170000
DTSTAMP:20260421T185052
CREATED:20250423T143842Z
LAST-MODIFIED:20250423T144708Z
UID:10000595-1755441000-1755450000@broadwaybowlingclub.co.uk
SUMMARY:Rothley Tourists Mixed Home 17th August 2025
DESCRIPTION:NOMINATE HERE
URL:https://broadwaybowlingclub.co.uk/event/rothley-tourists-mixed-home-17th-august-2025/
LOCATION:Broadway\, Kennel Lane\, Broadway\, Worcestershire\, WR12 7DJ\, United Kingdom
CATEGORIES:Matches,Mixed
GEO:52.0354006;-1.8602766
X-APPLE-STRUCTURED-LOCATION;VALUE=URI;X-ADDRESS=Broadway Kennel Lane Broadway Worcestershire WR12 7DJ United Kingdom;X-APPLE-RADIUS=500;X-TITLE=Kennel Lane:geo:-1.8602766,52.0354006
END:VEVENT
BEGIN:VEVENT
DTSTART;TZID=Europe/London:20250818T183000
DTEND;TZID=Europe/London:20250818T203000
DTSTAMP:20260421T185052
CREATED:20250423T143842Z
LAST-MODIFIED:20250423T144708Z
UID:10000596-1755541800-1755549000@broadwaybowlingclub.co.uk
SUMMARY:Aston Somerville Mixed Away 18th August 2025
DESCRIPTION:NOMINATE HERE
URL:https://broadwaybowlingclub.co.uk/event/aston-somerville-mixed-away-18th-august-2025/
LOCATION:Aston Somerville\, The Recreation Centre\, WR12 7JG
CATEGORIES:Matches,Mixed
GEO:52.0406601;-1.9339826
X-APPLE-STRUCTURED-LOCATION;VALUE=URI;X-ADDRESS=Aston Somerville The Recreation Centre WR12 7JG;X-APPLE-RADIUS=500;X-TITLE=The Recreation Centre:geo:-1.9339826,52.0406601
END:VEVENT
END:VCALENDAR