
BEGIN:VCALENDAR
VERSION:2.0
PRODID:-//Broadway Bowling Club - ECPv6.15.17.1//NONSGML v1.0//EN
CALSCALE:GREGORIAN
METHOD:PUBLISH
X-ORIGINAL-URL:https://broadwaybowlingclub.co.uk
X-WR-CALDESC:Events for Broadway Bowling Club
REFRESH-INTERVAL;VALUE=DURATION:PT1H
X-Robots-Tag:noindex
X-PUBLISHED-TTL:PT1H
BEGIN:VTIMEZONE
TZID:Europe/London
BEGIN:DAYLIGHT
TZOFFSETFROM:+0000
TZOFFSETTO:+0100
TZNAME:BST
DTSTART:20240331T010000
END:DAYLIGHT
BEGIN:STANDARD
TZOFFSETFROM:+0100
TZOFFSETTO:+0000
TZNAME:GMT
DTSTART:20241027T010000
END:STANDARD
BEGIN:DAYLIGHT
TZOFFSETFROM:+0000
TZOFFSETTO:+0100
TZNAME:BST
DTSTART:20250330T010000
END:DAYLIGHT
BEGIN:STANDARD
TZOFFSETFROM:+0100
TZOFFSETTO:+0000
TZNAME:GMT
DTSTART:20251026T010000
END:STANDARD
BEGIN:DAYLIGHT
TZOFFSETFROM:+0000
TZOFFSETTO:+0100
TZNAME:BST
DTSTART:20260329T010000
END:DAYLIGHT
BEGIN:STANDARD
TZOFFSETFROM:+0100
TZOFFSETTO:+0000
TZNAME:GMT
DTSTART:20261025T010000
END:STANDARD
END:VTIMEZONE
BEGIN:VEVENT
DTSTART;TZID=Europe/London:20250501T183000
DTEND;TZID=Europe/London:20250501T210000
DTSTAMP:20260421T132636
CREATED:20250226T140236Z
LAST-MODIFIED:20250226T140236Z
UID:10000514-1746124200-1746133200@broadwaybowlingclub.co.uk
SUMMARY:Northwick Mixed Triples Home 1st May 2025
DESCRIPTION:Nominate for this match
URL:https://broadwaybowlingclub.co.uk/event/northwick-mixed-triples-home-1st-may-2025/
LOCATION:Broadway\, Kennel Lane\, Broadway\, Worcestershire\, WR12 7DJ\, United Kingdom
CATEGORIES:Matches,Mixed
GEO:52.0354006;-1.8602766
X-APPLE-STRUCTURED-LOCATION;VALUE=URI;X-ADDRESS=Broadway Kennel Lane Broadway Worcestershire WR12 7DJ United Kingdom;X-APPLE-RADIUS=500;X-TITLE=Kennel Lane:geo:-1.8602766,52.0354006
END:VEVENT
BEGIN:VEVENT
DTSTART;TZID=Europe/London:20250503T143000
DTEND;TZID=Europe/London:20250503T180000
DTSTAMP:20260421T132636
CREATED:20250226T135641Z
LAST-MODIFIED:20250226T135641Z
UID:10000513-1746282600-1746295200@broadwaybowlingclub.co.uk
SUMMARY:Pershore Mens Rinks Away Sat 3rd May 2025
DESCRIPTION:Nominate for this match
URL:https://broadwaybowlingclub.co.uk/event/pershore-mens-rinks-away-sat-3rd-may-2025/
LOCATION:Pershore\, Abbey Road\, Pershore\, Worcestershire\, WR10 1JP\, United Kingdom
CATEGORIES:Matches,Mens
GEO:52.1097376;-2.0808073
X-APPLE-STRUCTURED-LOCATION;VALUE=URI;X-ADDRESS=Pershore Abbey Road Pershore Worcestershire WR10 1JP United Kingdom;X-APPLE-RADIUS=500;X-TITLE=Abbey Road:geo:-2.0808073,52.1097376
END:VEVENT
BEGIN:VEVENT
DTSTART;TZID=Europe/London:20250503T143000
DTEND;TZID=Europe/London:20250503T183000
DTSTAMP:20260421T132636
CREATED:20250226T140812Z
LAST-MODIFIED:20250226T140812Z
UID:10000515-1746282600-1746297000@broadwaybowlingclub.co.uk
SUMMARY:Pershore Ladies Triples Home Sat 3rd May 2025
DESCRIPTION:Nominate for this match
URL:https://broadwaybowlingclub.co.uk/event/pershore-ladies-triples-home-sat-3rd-may-2025/
LOCATION:Broadway\, Kennel Lane\, Broadway\, Worcestershire\, WR12 7DJ\, United Kingdom
CATEGORIES:Ladies,Matches
GEO:52.0354006;-1.8602766
X-APPLE-STRUCTURED-LOCATION;VALUE=URI;X-ADDRESS=Broadway Kennel Lane Broadway Worcestershire WR12 7DJ United Kingdom;X-APPLE-RADIUS=500;X-TITLE=Kennel Lane:geo:-1.8602766,52.0354006
END:VEVENT
BEGIN:VEVENT
DTSTART;TZID=Europe/London:20250507T181500
DTEND;TZID=Europe/London:20250507T210000
DTSTAMP:20260421T132636
CREATED:20250407T091016Z
LAST-MODIFIED:20250430T210836Z
UID:10000555-1746641700-1746651600@broadwaybowlingclub.co.uk
SUMMARY:Club Night 7th May 2025
DESCRIPTION:Nominate Here
URL:https://broadwaybowlingclub.co.uk/event/club-night-7th-may-2025/
LOCATION:Broadway\, Kennel Lane\, Broadway\, Worcestershire\, WR12 7DJ\, United Kingdom
CATEGORIES:Club Night,Matches
GEO:52.0354006;-1.8602766
X-APPLE-STRUCTURED-LOCATION;VALUE=URI;X-ADDRESS=Broadway Kennel Lane Broadway Worcestershire WR12 7DJ United Kingdom;X-APPLE-RADIUS=500;X-TITLE=Kennel Lane:geo:-1.8602766,52.0354006
END:VEVENT
BEGIN:VEVENT
DTSTART;TZID=Europe/London:20250507T183000
DTEND;TZID=Europe/London:20250507T213000
DTSTAMP:20260421T132636
CREATED:20250226T141651Z
LAST-MODIFIED:20250226T141651Z
UID:10000516-1746642600-1746653400@broadwaybowlingclub.co.uk
SUMMARY:Bredon Yellow Vale Mixed Triples Away 7th May 2025
DESCRIPTION:Nominate for this match
URL:https://broadwaybowlingclub.co.uk/event/bredon-yellow-vale-mixed-triples-away-7th-may-2025/
LOCATION:Bredon\, Main Road\, Bredon\, GL20 7QN
CATEGORIES:Matches,Mixed
GEO:52.0301664;-2.1048567
X-APPLE-STRUCTURED-LOCATION;VALUE=URI;X-ADDRESS=Bredon Main Road Bredon GL20 7QN;X-APPLE-RADIUS=500;X-TITLE=Main Road:geo:-2.1048567,52.0301664
END:VEVENT
BEGIN:VEVENT
DTSTART;TZID=Europe/London:20250508T183000
DTEND;TZID=Europe/London:20250508T210000
DTSTAMP:20260421T132636
CREATED:20250226T142345Z
LAST-MODIFIED:20250226T142345Z
UID:10000517-1746729000-1746738000@broadwaybowlingclub.co.uk
SUMMARY:Chipping Campden Mixed Triples Away 8th May 2025
DESCRIPTION:Nominate for this match
URL:https://broadwaybowlingclub.co.uk/event/chipping-campden-mixed-triples-away-8th-may-2025/
LOCATION:Chipping Campden\, Station Road\, Chipping Campden\, Gloucestershire\, GL55 6LB
CATEGORIES:Matches,Mixed
GEO:52.0546277;-1.7597938
X-APPLE-STRUCTURED-LOCATION;VALUE=URI;X-ADDRESS=Chipping Campden Station Road Chipping Campden Gloucestershire GL55 6LB;X-APPLE-RADIUS=500;X-TITLE=Station Road:geo:-1.7597938,52.0546277
END:VEVENT
BEGIN:VEVENT
DTSTART;TZID=Europe/London:20250510T143000
DTEND;TZID=Europe/London:20250510T180000
DTSTAMP:20260421T132636
CREATED:20250226T143001Z
LAST-MODIFIED:20250226T143001Z
UID:10000518-1746887400-1746900000@broadwaybowlingclub.co.uk
SUMMARY:Hewell Mens Rinks Home 10th May 2025
DESCRIPTION:Nominate for this match
URL:https://broadwaybowlingclub.co.uk/event/hewell-mens-rinks-home-10th-may-2025/
LOCATION:Broadway\, Kennel Lane\, Broadway\, Worcestershire\, WR12 7DJ\, United Kingdom
CATEGORIES:Matches,Mens
GEO:52.0354006;-1.8602766
X-APPLE-STRUCTURED-LOCATION;VALUE=URI;X-ADDRESS=Broadway Kennel Lane Broadway Worcestershire WR12 7DJ United Kingdom;X-APPLE-RADIUS=500;X-TITLE=Kennel Lane:geo:-1.8602766,52.0354006
END:VEVENT
BEGIN:VEVENT
DTSTART;TZID=Europe/London:20250510T143000
DTEND;TZID=Europe/London:20250510T180000
DTSTAMP:20260421T132636
CREATED:20250226T143518Z
LAST-MODIFIED:20250226T143518Z
UID:10000519-1746887400-1746900000@broadwaybowlingclub.co.uk
SUMMARY:Hewell Ladies Triples Away Saturday 10th May 2025
DESCRIPTION:Nominate for this match
URL:https://broadwaybowlingclub.co.uk/event/hewell-ladies-triples-away-saturday-10th-may-2025/
LOCATION:Hewell\, Holyoakes Lane\, Reddith\, Worcestershire\, B97 5SR\, United Kingdom
CATEGORIES:Ladies,Matches
GEO:52.3126742;-1.9988071
X-APPLE-STRUCTURED-LOCATION;VALUE=URI;X-ADDRESS=Hewell Holyoakes Lane Reddith Worcestershire B97 5SR United Kingdom;X-APPLE-RADIUS=500;X-TITLE=Holyoakes Lane:geo:-1.9988071,52.3126742
END:VEVENT
BEGIN:VEVENT
DTSTART;TZID=Europe/London:20250511T100000
DTEND;TZID=Europe/London:20250511T120000
DTSTAMP:20260421T132636
CREATED:20250407T090430Z
LAST-MODIFIED:20250407T090430Z
UID:10000554-1746957600-1746964800@broadwaybowlingclub.co.uk
SUMMARY:Bredon Ladies Double Rink Home May 11th 2025
DESCRIPTION:Nominate for this match
URL:https://broadwaybowlingclub.co.uk/event/bredon-ladies-double-rink-home-may-11th-2025/
LOCATION:Broadway\, Kennel Lane\, Broadway\, Worcestershire\, WR12 7DJ\, United Kingdom
CATEGORIES:Ladies,Matches
GEO:52.0354006;-1.8602766
X-APPLE-STRUCTURED-LOCATION;VALUE=URI;X-ADDRESS=Broadway Kennel Lane Broadway Worcestershire WR12 7DJ United Kingdom;X-APPLE-RADIUS=500;X-TITLE=Kennel Lane:geo:-1.8602766,52.0354006
END:VEVENT
BEGIN:VEVENT
DTSTART;TZID=Europe/London:20250511T100000
DTEND;TZID=Europe/London:20250511T123000
DTSTAMP:20260421T132636
CREATED:20250505T095704Z
LAST-MODIFIED:20250505T095941Z
UID:10000604-1746957600-1746966600@broadwaybowlingclub.co.uk
SUMMARY:Barbourne Tony Allcock 2 Rink Away 11th May 2025
DESCRIPTION:Nominate for this match
URL:https://broadwaybowlingclub.co.uk/event/barbourne-tony-allcock-2-rink-away-11th-may-2025/
LOCATION:Barbourne\, Redcliffe Street\, Worcester\, WR3 7AR\, United Kingdom
CATEGORIES:Matches,Mixed
GEO:52.2101784;-2.2321274
X-APPLE-STRUCTURED-LOCATION;VALUE=URI;X-ADDRESS=Barbourne Redcliffe Street Worcester WR3 7AR United Kingdom;X-APPLE-RADIUS=500;X-TITLE=Redcliffe Street:geo:-2.2321274,52.2101784
END:VEVENT
BEGIN:VEVENT
DTSTART;TZID=Europe/London:20250511T181500
DTEND;TZID=Europe/London:20250511T210000
DTSTAMP:20260421T132636
CREATED:20250408T094931Z
LAST-MODIFIED:20250408T094931Z
UID:10000563-1746987300-1746997200@broadwaybowlingclub.co.uk
SUMMARY:Bredon Club Two-Fours Open Comp Away 11th May 2025
DESCRIPTION:Nominate for this match
URL:https://broadwaybowlingclub.co.uk/event/bredon-club-two-fours-open-comp-away-11th-may-2025/
LOCATION:Bredon\, Main Road\, Bredon\, GL20 7QN
CATEGORIES:Matches,Mixed
GEO:52.0301664;-2.1048567
X-APPLE-STRUCTURED-LOCATION;VALUE=URI;X-ADDRESS=Bredon Main Road Bredon GL20 7QN;X-APPLE-RADIUS=500;X-TITLE=Main Road:geo:-2.1048567,52.0301664
END:VEVENT
BEGIN:VEVENT
DTSTART;TZID=Europe/London:20250512T183000
DTEND;TZID=Europe/London:20250512T203000
DTSTAMP:20260421T132636
CREATED:20250226T144325Z
LAST-MODIFIED:20250226T144325Z
UID:10000520-1747074600-1747081800@broadwaybowlingclub.co.uk
SUMMARY:Bredon Maroon Vale Mixed Triples Away 12th May 2024
DESCRIPTION:Nominate for this match
URL:https://broadwaybowlingclub.co.uk/event/bredon-maroon-vale-mixed-triples-away-12th-may-2024/
LOCATION:Bredon\, Main Road\, Bredon\, GL20 7QN
CATEGORIES:Matches,Mixed
GEO:52.0301664;-2.1048567
X-APPLE-STRUCTURED-LOCATION;VALUE=URI;X-ADDRESS=Bredon Main Road Bredon GL20 7QN;X-APPLE-RADIUS=500;X-TITLE=Main Road:geo:-2.1048567,52.0301664
END:VEVENT
BEGIN:VEVENT
DTSTART;TZID=Europe/London:20250514T181500
DTEND;TZID=Europe/London:20250514T210000
DTSTAMP:20260421T132636
CREATED:20250226T144603Z
LAST-MODIFIED:20250505T100418Z
UID:10000521-1747246500-1747256400@broadwaybowlingclub.co.uk
SUMMARY:Club Night 14th May 2025
DESCRIPTION:Nominate
URL:https://broadwaybowlingclub.co.uk/event/club-night-14th-may-2025/
LOCATION:Broadway\, Kennel Lane\, Broadway\, Worcestershire\, WR12 7DJ\, United Kingdom
CATEGORIES:Club Night,Matches
GEO:52.0354006;-1.8602766
X-APPLE-STRUCTURED-LOCATION;VALUE=URI;X-ADDRESS=Broadway Kennel Lane Broadway Worcestershire WR12 7DJ United Kingdom;X-APPLE-RADIUS=500;X-TITLE=Kennel Lane:geo:-1.8602766,52.0354006
END:VEVENT
BEGIN:VEVENT
DTSTART;TZID=Europe/London:20250515T181500
DTEND;TZID=Europe/London:20250515T210000
DTSTAMP:20260421T132636
CREATED:20250226T145210Z
LAST-MODIFIED:20250226T145210Z
UID:10000522-1747332900-1747342800@broadwaybowlingclub.co.uk
SUMMARY:Evesham Ladies Triples Home 15th May 2025
DESCRIPTION:Nominate for this match
URL:https://broadwaybowlingclub.co.uk/event/evesham-ladies-triples-home-15th-may-2025/
LOCATION:Broadway\, Kennel Lane\, Broadway\, Worcestershire\, WR12 7DJ\, United Kingdom
CATEGORIES:Ladies,Matches
GEO:52.0354006;-1.8602766
X-APPLE-STRUCTURED-LOCATION;VALUE=URI;X-ADDRESS=Broadway Kennel Lane Broadway Worcestershire WR12 7DJ United Kingdom;X-APPLE-RADIUS=500;X-TITLE=Kennel Lane:geo:-1.8602766,52.0354006
END:VEVENT
BEGIN:VEVENT
DTSTART;TZID=Europe/London:20250515T183000
DTEND;TZID=Europe/London:20250515T210000
DTSTAMP:20260421T132636
CREATED:20250226T145558Z
LAST-MODIFIED:20250510T160610Z
UID:10000523-1747333800-1747342800@broadwaybowlingclub.co.uk
SUMMARY:Evesham Mens Rinks Away 15th May 2025
DESCRIPTION:Nominate for this match
URL:https://broadwaybowlingclub.co.uk/event/evesham-mens-rinks-away-15th-may-2025/
LOCATION:Evesham\, Blind Lane\, Evesham\, WR11 4LA
CATEGORIES:Matches,Mens
GEO:52.0949932;-1.9538347
X-APPLE-STRUCTURED-LOCATION;VALUE=URI;X-ADDRESS=Evesham Blind Lane Evesham WR11 4LA;X-APPLE-RADIUS=500;X-TITLE=Blind Lane:geo:-1.9538347,52.0949932
END:VEVENT
BEGIN:VEVENT
DTSTART;VALUE=DATE:20250517
DTEND;VALUE=DATE:20250519
DTSTAMP:20260421T132636
CREATED:20250226T150232Z
LAST-MODIFIED:20250422T101621Z
UID:10000524-1747440000-1747612799@broadwaybowlingclub.co.uk
SUMMARY:Walker Cup Regionals
DESCRIPTION:Broadway Bowling Club is delighted to announce that it has been selected by Bowls England to host the regional final of the Walker Cup\, one of the most prestigious competitions in the English lawn bowls calendar\, on Saturday 17th and Sunday 18th May 2025. \nOften likened to hosting an FA Cup semi-final in football\, the Walker Cup is a major highlight of the national women’s bowls season with this event contested by Worcestershire\, Warwickshire\, Gloucestershire\, and Herefordshire. Being chosen to stage this elite-level event is both a great honour and a responsibility\, reflecting the exceptional quality of Broadway’s facilities\, the superb condition of its bowling green\, and the dedication of its organising committee. \nClub Chairperson Mark Riley commented:\n“To be entrusted with an event of this calibre by Bowls England is a huge compliment to our club. It recognises the hard work of our volunteers and the standards we strive to maintain. We’re incredibly proud of our bowling green and to bringing a national competition of this prestige to our village\, We look forward to welcoming players and supporters from all over the region.” \nThe two-day event is expected to draw some of the best female bowlers in England\, as well as a strong crowd of spectators\, making it a fantastic opportunity for the local community to experience top-tier sport in a vibrant and welcoming setting. \nBroadway Bowling Club extends an open invitation to residents\, visitors\, and bowls fans to come and enjoy a weekend of high-level competition\, community spirit\, and sporting excellence.
URL:https://broadwaybowlingclub.co.uk/event/walker-cup-regionals/
LOCATION:Broadway\, Kennel Lane\, Broadway\, Worcestershire\, WR12 7DJ\, United Kingdom
CATEGORIES:Matches,Other
ATTACH;FMTTYPE=image/png:https://broadwaybowlingclub.co.uk/wp-content/uploads/2023/07/bowls-england-logo.png
GEO:52.0354006;-1.8602766
X-APPLE-STRUCTURED-LOCATION;VALUE=URI;X-ADDRESS=Broadway Kennel Lane Broadway Worcestershire WR12 7DJ United Kingdom;X-APPLE-RADIUS=500;X-TITLE=Kennel Lane:geo:-1.8602766,52.0354006
END:VEVENT
BEGIN:VEVENT
DTSTART;TZID=Europe/London:20250519T183000
DTEND;TZID=Europe/London:20250519T203000
DTSTAMP:20260421T132636
CREATED:20250226T150914Z
LAST-MODIFIED:20250226T150914Z
UID:10000525-1747679400-1747686600@broadwaybowlingclub.co.uk
SUMMARY:Littleton Blue Vale Mixed Triples Home 19th May 2025
DESCRIPTION:Nominate for this match
URL:https://broadwaybowlingclub.co.uk/event/littleton-blue-vale-mixed-triples-home-19th-may-2025/
LOCATION:Broadway\, Kennel Lane\, Broadway\, Worcestershire\, WR12 7DJ\, United Kingdom
CATEGORIES:Matches,Mixed
GEO:52.0354006;-1.8602766
X-APPLE-STRUCTURED-LOCATION;VALUE=URI;X-ADDRESS=Broadway Kennel Lane Broadway Worcestershire WR12 7DJ United Kingdom;X-APPLE-RADIUS=500;X-TITLE=Kennel Lane:geo:-1.8602766,52.0354006
END:VEVENT
BEGIN:VEVENT
DTSTART;TZID=Europe/London:20250521T181500
DTEND;TZID=Europe/London:20250521T210000
DTSTAMP:20260421T132636
CREATED:20250227T095638Z
LAST-MODIFIED:20250505T100402Z
UID:10000526-1747851300-1747861200@broadwaybowlingclub.co.uk
SUMMARY:Club Night 21st May 2025
DESCRIPTION:Nominate
URL:https://broadwaybowlingclub.co.uk/event/club-night-21st-may-2025/
LOCATION:Broadway\, Kennel Lane\, Broadway\, Worcestershire\, WR12 7DJ\, United Kingdom
CATEGORIES:Club Night,Matches
GEO:52.0354006;-1.8602766
X-APPLE-STRUCTURED-LOCATION;VALUE=URI;X-ADDRESS=Broadway Kennel Lane Broadway Worcestershire WR12 7DJ United Kingdom;X-APPLE-RADIUS=500;X-TITLE=Kennel Lane:geo:-1.8602766,52.0354006
END:VEVENT
BEGIN:VEVENT
DTSTART;TZID=Europe/London:20250522T181500
DTEND;TZID=Europe/London:20250522T210000
DTSTAMP:20260421T132636
CREATED:20250227T100131Z
LAST-MODIFIED:20250227T100131Z
UID:10000527-1747937700-1747947600@broadwaybowlingclub.co.uk
SUMMARY:Barbourne Ladies Triples Away 22nd May 2025
DESCRIPTION:Nominate for this match
URL:https://broadwaybowlingclub.co.uk/event/barbourne-ladies-triples-away-22nd-may-2025/
LOCATION:Barbourne\, Redcliffe Street\, Worcester\, WR3 7AR\, United Kingdom
CATEGORIES:Ladies,Matches
GEO:52.2101784;-2.2321274
X-APPLE-STRUCTURED-LOCATION;VALUE=URI;X-ADDRESS=Barbourne Redcliffe Street Worcester WR3 7AR United Kingdom;X-APPLE-RADIUS=500;X-TITLE=Redcliffe Street:geo:-2.2321274,52.2101784
END:VEVENT
BEGIN:VEVENT
DTSTART;TZID=Europe/London:20250524T143000
DTEND;TZID=Europe/London:20250524T183000
DTSTAMP:20260421T132636
CREATED:20250227T100728Z
LAST-MODIFIED:20250227T100728Z
UID:10000528-1748097000-1748111400@broadwaybowlingclub.co.uk
SUMMARY:Vines Park Mens Home 24th May 2025
DESCRIPTION:Nominate for this match
URL:https://broadwaybowlingclub.co.uk/event/vines-park-mens-home-24th-may-2025/
LOCATION:Broadway\, Kennel Lane\, Broadway\, Worcestershire\, WR12 7DJ\, United Kingdom
CATEGORIES:Matches,Mens
GEO:52.0354006;-1.8602766
X-APPLE-STRUCTURED-LOCATION;VALUE=URI;X-ADDRESS=Broadway Kennel Lane Broadway Worcestershire WR12 7DJ United Kingdom;X-APPLE-RADIUS=500;X-TITLE=Kennel Lane:geo:-1.8602766,52.0354006
END:VEVENT
BEGIN:VEVENT
DTSTART;TZID=Europe/London:20250525T100000
DTEND;TZID=Europe/London:20250525T120000
DTSTAMP:20260421T132636
CREATED:20250405T105251Z
LAST-MODIFIED:20250408T100218Z
UID:10000553-1748167200-1748174400@broadwaybowlingclub.co.uk
SUMMARY:Bowls Big Weekend Open Day
DESCRIPTION:Bowls’ Big Weekend is a national event taking place from  Friday 24th to Monday 27th May\, giving you the opportunity to give bowls a go\, for FREE! \nAt Broadway Bowling Club we will be opening our doors to anyone who wants to try a new sport\, have some fun with friends and family\, or meet new people.    \nDon’t know anything about bowls? Don’t worry! Whether you’re completely new to the game or have played before\, there will be a warm welcome waiting for you\, and a helping hand if you want any tips!   \nNo need to bring anything with you as our club will have all the equipment you need – We’ll also be offering refreshments\, in case you work up an appetite on the green.  \nPlease wear flat soled shoes and arrive between 10am and Noon on the 25th May. \nBacon Butties\, tea and coffee from 10am provided. If you can please RSVP to info@broadwaybowlingclub.co.uk so we can gauge the number of visitors to expect\, thanks.
URL:https://broadwaybowlingclub.co.uk/event/bowls-big-weekend-open-day/
LOCATION:Broadway\, Kennel Lane\, Broadway\, Worcestershire\, WR12 7DJ\, United Kingdom
CATEGORIES:Other
ATTACH;FMTTYPE=image/png:https://broadwaybowlingclub.co.uk/wp-content/uploads/2023/02/Bowls-Big-Weekend-recruitment.png
ORGANIZER;CN="Viv Hall":MAILTO:vivhall22@btinternet.com
GEO:52.0354006;-1.8602766
X-APPLE-STRUCTURED-LOCATION;VALUE=URI;X-ADDRESS=Broadway Kennel Lane Broadway Worcestershire WR12 7DJ United Kingdom;X-APPLE-RADIUS=500;X-TITLE=Kennel Lane:geo:-1.8602766,52.0354006
END:VEVENT
BEGIN:VEVENT
DTSTART;VALUE=DATE:20250526
DTEND;VALUE=DATE:20250527
DTSTAMP:20260421T132636
CREATED:20250227T100849Z
LAST-MODIFIED:20250407T121332Z
UID:10000529-1748217600-1748303999@broadwaybowlingclub.co.uk
SUMMARY:Club Pairs 2025
DESCRIPTION:
URL:https://broadwaybowlingclub.co.uk/event/club-pairs-2025/
LOCATION:Broadway\, Kennel Lane\, Broadway\, Worcestershire\, WR12 7DJ\, United Kingdom
CATEGORIES:Club Competitions,Matches
ORGANIZER;CN="Viv Hall":MAILTO:vivhall22@btinternet.com
GEO:52.0354006;-1.8602766
X-APPLE-STRUCTURED-LOCATION;VALUE=URI;X-ADDRESS=Broadway Kennel Lane Broadway Worcestershire WR12 7DJ United Kingdom;X-APPLE-RADIUS=500;X-TITLE=Kennel Lane:geo:-1.8602766,52.0354006
END:VEVENT
BEGIN:VEVENT
DTSTART;TZID=Europe/London:20250528T181500
DTEND;TZID=Europe/London:20250528T210000
DTSTAMP:20260421T132636
CREATED:20250407T091135Z
LAST-MODIFIED:20250505T100752Z
UID:10000556-1748456100-1748466000@broadwaybowlingclub.co.uk
SUMMARY:Club Night 28th May 2025
DESCRIPTION:Nominate
URL:https://broadwaybowlingclub.co.uk/event/club-night-28th-may-2025/
LOCATION:Broadway\, Kennel Lane\, Broadway\, Worcestershire\, WR12 7DJ\, United Kingdom
CATEGORIES:Club Night,Matches
GEO:52.0354006;-1.8602766
X-APPLE-STRUCTURED-LOCATION;VALUE=URI;X-ADDRESS=Broadway Kennel Lane Broadway Worcestershire WR12 7DJ United Kingdom;X-APPLE-RADIUS=500;X-TITLE=Kennel Lane:geo:-1.8602766,52.0354006
END:VEVENT
BEGIN:VEVENT
DTSTART;TZID=Europe/London:20250528T183000
DTEND;TZID=Europe/London:20250528T203000
DTSTAMP:20260421T132636
CREATED:20250227T102734Z
LAST-MODIFIED:20250227T102734Z
UID:10000530-1748457000-1748464200@broadwaybowlingclub.co.uk
SUMMARY:Littleton Gold Vale Mixed Triples Home 28th May 2025
DESCRIPTION:Nominate for this match
URL:https://broadwaybowlingclub.co.uk/event/littleton-gold-vale-mixed-triples-home-28th-may-2025/
LOCATION:Broadway\, Kennel Lane\, Broadway\, Worcestershire\, WR12 7DJ\, United Kingdom
CATEGORIES:Matches,Mixed
GEO:52.0354006;-1.8602766
X-APPLE-STRUCTURED-LOCATION;VALUE=URI;X-ADDRESS=Broadway Kennel Lane Broadway Worcestershire WR12 7DJ United Kingdom;X-APPLE-RADIUS=500;X-TITLE=Kennel Lane:geo:-1.8602766,52.0354006
END:VEVENT
BEGIN:VEVENT
DTSTART;TZID=Europe/London:20250530T181500
DTEND;TZID=Europe/London:20250530T210000
DTSTAMP:20260421T132636
CREATED:20250420T110934Z
LAST-MODIFIED:20250420T110934Z
UID:10000564-1748628900-1748638800@broadwaybowlingclub.co.uk
SUMMARY:Bredon Mens Top Club Home 30th May 2025
DESCRIPTION:Nominate for this match
URL:https://broadwaybowlingclub.co.uk/event/bredon-mens-top-club-home-30th-may-2025/
LOCATION:Broadway\, Kennel Lane\, Broadway\, Worcestershire\, WR12 7DJ\, United Kingdom
CATEGORIES:Matches,Mens
GEO:52.0354006;-1.8602766
X-APPLE-STRUCTURED-LOCATION;VALUE=URI;X-ADDRESS=Broadway Kennel Lane Broadway Worcestershire WR12 7DJ United Kingdom;X-APPLE-RADIUS=500;X-TITLE=Kennel Lane:geo:-1.8602766,52.0354006
END:VEVENT
BEGIN:VEVENT
DTSTART;TZID=Europe/London:20250531T143000
DTEND;TZID=Europe/London:20250531T180000
DTSTAMP:20260421T132636
CREATED:20250227T110948Z
LAST-MODIFIED:20250227T110948Z
UID:10000532-1748701800-1748714400@broadwaybowlingclub.co.uk
SUMMARY:Littleton Ladies Triples Home 31st May 2025
DESCRIPTION:Nominate for this match
URL:https://broadwaybowlingclub.co.uk/event/littleton-ladies-triples-home-31st-may-2025/
LOCATION:Broadway\, Kennel Lane\, Broadway\, Worcestershire\, WR12 7DJ\, United Kingdom
CATEGORIES:Ladies,Matches
GEO:52.0354006;-1.8602766
X-APPLE-STRUCTURED-LOCATION;VALUE=URI;X-ADDRESS=Broadway Kennel Lane Broadway Worcestershire WR12 7DJ United Kingdom;X-APPLE-RADIUS=500;X-TITLE=Kennel Lane:geo:-1.8602766,52.0354006
END:VEVENT
BEGIN:VEVENT
DTSTART;TZID=Europe/London:20250531T143000
DTEND;TZID=Europe/London:20250531T190000
DTSTAMP:20260421T132636
CREATED:20250227T105158Z
LAST-MODIFIED:20250227T105158Z
UID:10000531-1748701800-1748718000@broadwaybowlingclub.co.uk
SUMMARY:Littleton Mens Rinks Away 31st May 2025
DESCRIPTION:Nominate for this match
URL:https://broadwaybowlingclub.co.uk/event/littleton-mens-rinks-away-31st-may-2025/
LOCATION:Littleton\, Long Hyde Road\, South Littleton\, WR11 8TH
CATEGORIES:Matches,Mens
GEO:52.1128179;-1.8941426
X-APPLE-STRUCTURED-LOCATION;VALUE=URI;X-ADDRESS=Littleton Long Hyde Road South Littleton WR11 8TH;X-APPLE-RADIUS=500;X-TITLE=Long Hyde Road:geo:-1.8941426,52.1128179
END:VEVENT
END:VCALENDAR